BEGIN:VCALENDAR
VERSION:2.0
PRODID:-//ChamberMaster//Event Calendar 2.0//EN
METHOD:PUBLISH
X-PUBLISHED-TTL:P3D
REFRESH-INTERVAL:P3D
CALSCALE:GREGORIAN
BEGIN:VEVENT
DTSTART:20130317T010000Z
DTEND:20130317T033000Z
X-MICROSOFT-CDO-ALLDAYEVENT:FALSE
SUMMARY:Las Colinas Symphony Movie Scores Quiz
DESCRIPTION:The LCSO presents the Eighth Annual Movie Scores Quiz for an evening of challenge and enjoyment! The LCSO will perform selections from soundtracks of famous films about Spain\, and the audience gets to identify the film titles and composers. This performance will also feature cellist\, Laura Ospina performing Glazunov's Two Pieces for Cello and Orchestra\, Op. 20.
X-ALT-DESC;FMTTYPE=text/html:<p class="MsoNormal" style="margin: 0in 0in 0pt\; line-height: normal\;">\n	<font color="#000000" face="Calibri" size="3">The LCSO presents the Eighth Annual Movie Scores Quiz for an evening of challenge and enjoyment! The LCSO will perform selections from soundtracks of famous films about Spain\, and the audience gets to identify the film titles and composers. This performance will also feature cellist\, Laura Ospina performing Glazunov&rsquo\;s Two Pieces for Cello and Orchestra\, Op. 20.</font></p>\n
LOCATION:Irving Arts Center\, 3333 N. MacArthur Blvd.\, Irving\, TX
UID:e.770.163389
SEQUENCE:3
DTSTAMP:20260421T180201Z
URL:https://business.grapevinechamber.org/events/details/las-colinas-symphony-movie-scores-quiz-03-16-2013-163389
END:VEVENT

END:VCALENDAR
