BEGIN:VCALENDAR
VERSION:2.0
PRODID:-//ChamberMaster//Event Calendar 2.0//EN
METHOD:PUBLISH
X-PUBLISHED-TTL:P3D
REFRESH-INTERVAL:P3D
CALSCALE:GREGORIAN
BEGIN:VEVENT
DTSTART:20121216T020000Z
DTEND:20121216T043000Z
X-MICROSOFT-CDO-ALLDAYEVENT:FALSE
SUMMARY:Las Colinas Symphony - Felices Fiestas!
DESCRIPTION:Feel the excitement as the LCSO and Maestro Austin celebrate the Holiday Season! Winter favorites will have sugar plum fairies dancing in your head\, plus the Annual Holiday Sing-along! It's perfect for families and children of all ages. This concert will feature soprano Corrie Donovan.
X-ALT-DESC;FMTTYPE=text/html:<p class="MsoNormal" style="line-height: normal\; margin: 0in 0in 0pt">\n	<font color="#000000" size="3">Feel the excitement as the LCSO and Maestro Austin celebrate the Holiday Season! Winter favorites will have sugar plum fairies dancing in your head\, plus the Annual Holiday Sing-along! It&rsquo\;s perfect for families and children of all ages. This concert will feature soprano Corrie Donovan.</font></p>\n
LOCATION:Irving Arts Center\, 3333 N. MacArthur Blvd.\, Irving\, TX 75062
UID:e.770.163225
SEQUENCE:3
DTSTAMP:20260423T152503Z
URL:https://business.grapevinechamber.org/events/details/las-colinas-symphony-felices-fiestas-12-15-2012-163225
END:VEVENT

END:VCALENDAR
