BEGIN:VCALENDAR
VERSION:2.0
PRODID:-//ChamberMaster//Event Calendar 2.0//EN
METHOD:PUBLISH
X-PUBLISHED-TTL:P3D
REFRESH-INTERVAL:P3D
CALSCALE:GREGORIAN
BEGIN:VEVENT
DTSTART:20120804T214500Z
DTEND:20120805T033000Z
X-MICROSOFT-CDO-ALLDAYEVENT:FALSE
SUMMARY:LAKEFEST -Legacy on the Lake
DESCRIPTION:Lakefest on Lake Grapevine features an outdoor concert spotlighting Texas Country Music\, local restaurants and a boat show. Boaters and landlubbers flock to Silver Lake Marina for this annual concert on the lake. This event draws concert goers from Grapevine\, Dallas\, Fort Worth\, Frisco\, The Colony and cities throughout the Dallas-Ft. Worth area. Lakefest concerts have featured Texas favorites like Jerry Jeff Walker\, Kevin Fowler\, The Eli Young Band\, Johnny Cooper\, Charlie Robison\, Robert Earl Keen and Stoney LaRue. Together\, we can end the fight against brain cancer and make our own Legacy on the Lake.\n\n	 \n\n	Lakefest celebrates friends\, family and the community surrounded by one our most important natural resources\, our waterways. By joining The Marinas of Lake Grapevine and the Legacy Brain Foundation at Lakefest\, you can join the fight against Brain Cancer. The Legacy Brain Foundation's sole purpose is to raise money and awareness to aid brain tumor patients and their families in all of North Texas. We (LBF) are different\, we can go directly to the patient and that really sets us apart from many other organizations. The LBF reaches out directly to the patients by awarding grants and scholarships to those in need. This direct assistance sets us apart from many other support organizations. \n\n	Don't miss Lakefest\, the annual outdoor concert and boat show with plenty of food and fun and a spectacular display of fireworks over Lake Grapevine.\n\n	 \n\n	Attendees can purchase regular tickets online at lakefesttx.com or at the door for $20 apiece. VIP tickets can also be purchased online at lakefesttx.com for $150\; these tickets will get the attendee free drinks all night\, dinner and snacks\, and access to the fully air-conditioned VIP tent.\n\n	 \n\n	Doors open at 4:45PM at Silver Lake Marina and the party will go until 10:30PM.
X-ALT-DESC;FMTTYPE=text/html:<p class="MsoNormal" style="margin: 0in 0in 0pt">\n	<span style="font-family: 'tahoma'\, 'sans-serif'\; color: #454545"><font size="3">Lakefest on Lake Grapevine features an outdoor concert spotlighting Texas Country Music\, local restaurants and a boat show. Boaters and landlubbers flock to Silver Lake Marina for this annual concert on the lake. This event draws concert goers from Grapevine\, Dallas\, Fort Worth\, Frisco\, The Colony and cities throughout the Dallas-Ft. Worth area. Lakefest concerts have featured Texas favorites like Jerry Jeff Walker\, Kevin Fowler\, The Eli Young Band\, Johnny Cooper\, Charlie Robison\, Robert Earl Keen and Stoney LaRue. Together\, we can end the fight against brain cancer and make our own Legacy on the Lake.<o:p></o:p></font></span></p>\n<p class="MsoNormal" style="margin: 0in 0in 0pt">\n	<span style="font-family: 'tahoma'\, 'sans-serif'\; color: #454545"><o:p><font size="3">&nbsp\;</font></o:p></span></p>\n<p class="MsoNormal" style="text-align: justify\; margin: 0in 0in 0pt\; mso-margin-top-alt: auto">\n	<i><span style="font-family: 'tahoma'\, 'sans-serif'\; color: #454545\; font-size: 12pt">Lakefest</span></i><span style="font-family: 'tahoma'\, 'sans-serif'\; color: #454545\; font-size: 12pt"> celebrates friends\, family and the community surrounded by one our most important natural resources\, our waterways. By joining The Marinas of Lake Grapevine and the Legacy Brain Foundation at <i>Lakefest</i>\, you can join the fight against Brain Cancer. The Legacy Brain Foundation&#39\;s sole purpose is to raise money and awareness to aid brain tumor patients and their families in all of North Texas. We (LBF) are different\, we can go directly to the patient and that really sets us apart from many other organizations. The LBF reaches out directly to the patients by awarding grants and scholarships to those in need. This direct assistance sets us apart from many other support organizations. </span><span style="font-family: 'times new roman'\, 'serif'\; color: #454545\; font-size: 12pt"><o:p></o:p></span></p>\n<p class="MsoNormal" style="margin: 0in 0in 0pt">\n	<span style="font-family: 'tahoma'\, 'sans-serif'\; color: #454545\; font-size: 12pt">Don&rsquo\;t miss <i>Lakefest</i>\, the annual outdoor concert and boat show with plenty of food and fun and a spectacular display of fireworks over Lake Grapevine.<o:p></o:p></span></p>\n<p class="MsoNormal" style="margin: 0in 0in 0pt">\n	<span style="font-family: 'tahoma'\, 'sans-serif'\; color: #454545\; font-size: 12pt"><o:p>&nbsp\;</o:p></span></p>\n<p class="MsoNormal" style="margin: 0in 0in 0pt">\n	<span style="font-family: 'tahoma'\, 'sans-serif'\; color: #454545\; font-size: 12pt">Attendees can purchase regular tickets online at lakefesttx.com or at the door for $20 apiece. VIP tickets can also be purchased online at lakefesttx.com for $150\; these tickets will get the attendee free drinks all night\, dinner and snacks\, and access to the fully air-conditioned VIP tent.<o:p></o:p></span></p>\n<p class="MsoNormal" style="margin: 0in 0in 0pt">\n	<span style="font-family: 'tahoma'\, 'sans-serif'\; color: #454545\; font-size: 12pt"><o:p>&nbsp\;</o:p></span></p>\n<p class="MsoNormal" style="margin: 0in 0in 0pt">\n	<span style="font-family: 'tahoma'\, 'sans-serif'\; color: #454545\; font-size: 12pt">Doors open at 4:45PM at Silver Lake Marina and the party will go until 10:30PM. <o:p></o:p></span></p>\n
LOCATION:Silver Lake Marina on Lake Grapevine
UID:e.770.162960
SEQUENCE:3
DTSTAMP:20260422T080209Z
URL:https://business.grapevinechamber.org/events/details/lakefest-legacy-on-the-lake-08-04-2012-162960
END:VEVENT

END:VCALENDAR
