BEGIN:VCALENDAR
VERSION:2.0
PRODID:-//ChamberMaster//Event Calendar 2.0//EN
METHOD:PUBLISH
X-PUBLISHED-TTL:P3D
REFRESH-INTERVAL:P3D
CALSCALE:GREGORIAN
BEGIN:VEVENT
DTSTART:20131201T220000Z
DTEND:20131201T220000Z
X-MICROSOFT-CDO-ALLDAYEVENT:FALSE
SUMMARY:Kraig Parker's Elvis Christmas at the Palace Arts Center
DESCRIPTION:Celebrate the holidays Elvis style with world renowned artist\, Kraig Parker and the Royal Tribute Band. Parker's voice\, looks and charisma are as close as it gets to Presley. Playing to sold out audiences around the world\, critics call Kraig "the best in the business". Enjoy all your favorite Elvis Christmas tunes with a little Blue Suede Shoes on the side. Bring the whole family...rumor has it there will even be a visit from Santa.\n\n	\n\n	For more information and tickets\, click here.
X-ALT-DESC;FMTTYPE=text/html:<p>\n	<span style="font-size:14px\;"><span style="font-family: arial\;">Celebrate the holidays Elvis style with world renowned artist\, Kraig Parker and the Royal Tribute Band. Parker&#39\;s voice\, looks and charisma are as close as it gets to Presley. Playing to sold out audiences around the world\, critics call Kraig &quot\;the best in the business&quot\;. Enjoy all your favorite Elvis Christmas tunes with a little Blue Suede Shoes on the side. Bring the whole family...rumor has it there will even be a visit from Santa.<br />\n	<br />\n	For more information and tickets\, <strong><a href="https://www.grapevinetexasusa.com/Heritage/PalaceArtsCenter/LivePerformances/KraigParkersElvisChristmas/tabid/1221/Default.aspx" target="_blank">click here</a></strong>.</span></span></p>\n
LOCATION:Palace Arts Center 300 S. Main St. Grapevine\, TX 76051
UID:e.770.164056
SEQUENCE:3
DTSTAMP:20260421T000553Z
URL:https://business.grapevinechamber.org/events/details/kraig-parker-s-elvis-christmas-at-the-palace-arts-center-12-01-2013-164056
END:VEVENT

END:VCALENDAR
