BEGIN:VCALENDAR
VERSION:2.0
PRODID:-//ChamberMaster//Event Calendar 2.0//EN
METHOD:PUBLISH
X-PUBLISHED-TTL:P3D
REFRESH-INTERVAL:P3D
CALSCALE:GREGORIAN
BEGIN:VEVENT
DTSTART:20230907T220000Z
DTEND:20230908T010000Z
X-MICROSOFT-CDO-ALLDAYEVENT:FALSE
SUMMARY:KL Birthday Bash
DESCRIPTION:An event to raise scholarship funds while celebrating the life of community volunteer Kathee Livengood.  Each year on the day that would be her birthday the friends celebrate her by hosting the community with wine\, an auction\, music and fun!\nThank you to the Wright Family for donating the KL Scholarship Raffle Honey Star 50 Scooter ($2000 value).
X-ALT-DESC;FMTTYPE=text/html:<br />\nAn event to raise scholarship funds while celebrating the life of community volunteer Kathee Livengood.&nbsp\; Each year on the day that would be her birthday the friends celebrate her by hosting the community with wine\, an auction\, music and fun!\n<hr />Thank you to the Wright Family for donating the KL Scholarship Raffle Honey Star 50 Scooter ($2000 value).
LOCATION:Sloan & Williams Winery 401 S. Main St. Grapevine\, TX 76051
UID:e.770.197206
SEQUENCE:3
DTSTAMP:20260424T202103Z
URL:https://business.grapevinechamber.org/events/details/kl-birthday-bash-197206
END:VEVENT

END:VCALENDAR
