BEGIN:VCALENDAR
VERSION:2.0
PRODID:-//ChamberMaster//Event Calendar 2.0//EN
METHOD:PUBLISH
X-PUBLISHED-TTL:P3D
REFRESH-INTERVAL:P3D
CALSCALE:GREGORIAN
BEGIN:VEVENT
DTSTART;VALUE=DATE:20230721
DTEND;VALUE=DATE:20230724
TRANSP:TRANSPARENT
X-MICROSOFT-CDO-ALLDAYEVENT:TRUE
SUMMARY:Kilwins Grapevine CHRISTMAS in JULY!
DESCRIPTION:For one weekend\, we're bringing a Taste of the HOLIDAYS to you!  \n\n\n\nYES!! INCLUDING PEPPERMINT ICE CREAM\, the BEST Hot Cocoa (the iced version\, of course!)\, fudge sampling\, Christmas Music\, and a raffled basket full of your favorites!\n\n\n\nCelebrate with us during normal business hours the weekend of Friday\, July 21- Sunday\, July 23!
X-ALT-DESC;FMTTYPE=text/html:For one weekend\, we&#39\;re bringing a Taste of the HOLIDAYS to you! &nbsp\;<br />\n<br />\nYES!! INCLUDING&nbsp\;PEPPERMINT ICE CREAM\, the BEST Hot Cocoa (the iced version\, of course!)\, fudge sampling\, Christmas Music\, and a raffled basket full of your favorites!<br />\n<br />\nCelebrate with us during normal business hours the weekend of Friday\, July 21- Sunday\, July 23!
LOCATION:Kilwins Grapevine on Historic Downtown Grapevine 338 S. Main St\, Grapevine\, TX
UID:e.770.197249
SEQUENCE:3
DTSTAMP:20260425T000219Z
URL:https://business.grapevinechamber.org/events/details/kilwins-grapevine-christmas-in-july-event-197249
END:VEVENT

END:VCALENDAR
