BEGIN:VCALENDAR
VERSION:2.0
PRODID:-//ChamberMaster//Event Calendar 2.0//EN
METHOD:PUBLISH
X-PUBLISHED-TTL:P3D
REFRESH-INTERVAL:P3D
CALSCALE:GREGORIAN
BEGIN:VEVENT
DTSTART:20250227T210000Z
DTEND:20250228T030000Z
X-MICROSOFT-CDO-ALLDAYEVENT:FALSE
SUMMARY:Kids Matter Presents 'Play For A Purpose'
DESCRIPTION:Kids Matter International is excited to announce 'Play For A Purpose.' This event will benefit children in need and is open to families to join us for a night of food\, fun\, and games at Grapevine\, Mills at Chuck E. Cheese. Grab your coupons here: https://kidsmatterinternational.org/event/play-for-a-purpose/
X-ALT-DESC;FMTTYPE=text/html:Kids Matter International is excited to announce &#39\;Play For A Purpose.&#39\; This event will benefit children in need and is open to families to join us for a night of food\, fun\, and games at Grapevine\, Mills at Chuck E. Cheese. Grab your coupons here:&nbsp\;https://kidsmatterinternational.org/event/play-for-a-purpose/
LOCATION:Chuck E. Cheese Grapevine Mills.
UID:e.770.200775
SEQUENCE:3
DTSTAMP:20260423T134507Z
URL:https://business.grapevinechamber.org/events/details/kids-matter-presents-play-for-a-purpose-200775
END:VEVENT

END:VCALENDAR
