BEGIN:VCALENDAR
VERSION:2.0
PRODID:-//ChamberMaster//Event Calendar 2.0//EN
METHOD:PUBLISH
X-PUBLISHED-TTL:P3D
REFRESH-INTERVAL:P3D
CALSCALE:GREGORIAN
BEGIN:VEVENT
DTSTART:20121020T150000Z
DTEND:20121020T210000Z
X-MICROSOFT-CDO-ALLDAYEVENT:FALSE
SUMMARY:Kid Fish at Classic Chevrolet
DESCRIPTION:Bring the kids to a great fishing event in the parking lot of The Thompson Group at Classic Chevrolet from 10 a.m. - 4 p.m.\n\n\n\nClassic Chevrolet has partnered with Kidfish to set up a catch tank that will be fully stocked with hungry catfish\, so the kids can fish and catch!\n\n\n\nTrophies every hour for kids who catch the longest fish!\n\n\n\nFishing poles and bait provided
X-ALT-DESC;FMTTYPE=text/html:Bring the kids to a great fishing event in the parking lot of The Thompson Group at Classic Chevrolet from 10 a.m. - 4 p.m.<br />\n<br />\nClassic Chevrolet has partnered with Kidfish to set up a catch tank that will be fully stocked with hungry catfish\, so the kids can fish and catch!<br />\n<br />\nTrophies every hour for kids who catch the longest fish!<br />\n<br />\nFishing poles and bait provided<br />\n<br />\n<br />\n<br />\n<br />\n<br />\n<br />\n
LOCATION:Northbound Highway 121 Service Road between Stone Myers Parkway and Mustang in Grapevine.
UID:e.770.163069
SEQUENCE:3
DTSTAMP:20260422T111214Z
URL:https://business.grapevinechamber.org/events/details/kid-fish-at-classic-chevrolet-10-20-2012-163069
END:VEVENT

END:VCALENDAR
