BEGIN:VCALENDAR
VERSION:2.0
PRODID:-//ChamberMaster//Event Calendar 2.0//EN
METHOD:PUBLISH
X-PUBLISHED-TTL:P3D
REFRESH-INTERVAL:P3D
CALSCALE:GREGORIAN
BEGIN:VEVENT
DTSTART:20240202T230000Z
DTEND:20240203T010000Z
X-MICROSOFT-CDO-ALLDAYEVENT:FALSE
SUMMARY:Kendra Scott Give Back Night For The Usual Artspects
DESCRIPTION:Shop to Make a Difference!\n\nJoin us for an evening of shopping with a purpose! On Feb 2nd from 5-7 pm\, Kendra Scott will be generously donating 20% of all sales to The Usual Artspects. The mission of The Usual Artspects is to provide healing and empowerment through art for female survivors of physical violence and sexual abuse to improve the quality of their life mentally\, emotionally\, and physically. Through a safe supportive environment\, we provide advocacy\, awareness\, community\, education\, and resources for survivors through various art and social events\, along with artistic therapeutic healing programs and workshops.\n\nEvent Highlights:\n\n  Drinks & Snacks: Enjoy refreshments while you shop.\n\n  Giveback Code: Can't make it to the event? Use code GIVEBACK-FTOEX online on Feb 2nd.\n\nLet's come together\, shop for a cause\, and make a positive impact on the lives of survivors. Your support means the world to us!
X-ALT-DESC;FMTTYPE=text/html:<p>Shop to Make a Difference!</p>\n\n<p>Join us for an evening of shopping with a purpose!&nbsp\;On Feb 2nd from 5-7 pm\, Kendra Scott will be generously donating 20% of all sales to The Usual Artspects.&nbsp\;The mission of The Usual Artspects is to provide healing and empowerment through art for female survivors of physical violence and sexual abuse to improve the quality of their life mentally\, emotionally\, and physically. Through a safe supportive environment\, we provide advocacy\, awareness\, community\, education\, and resources for survivors through various art and social events\, along with artistic therapeutic healing programs and workshops.<br />\nEvent Highlights:<br />\n&middot\;&nbsp\;Drinks &amp\; Snacks:&nbsp\;Enjoy refreshments while you shop.<br />\n&middot\;&nbsp\;Giveback Code:&nbsp\;Can&#39\;t make it to the event? Use code GIVEBACK-FTOEX online on Feb 2nd.</p>\n\n<p>Let&#39\;s come together\, shop for a cause\, and make a positive impact on the lives of survivors. Your support means the world to us!</p>\n
LOCATION:Kendra Scott 324 Grand Ave E. Southlake\, TX
UID:e.770.198202
SEQUENCE:3
DTSTAMP:20260424T130414Z
URL:https://business.grapevinechamber.org/events/details/kendra-scott-give-back-night-for-the-usual-artspects-198202
END:VEVENT

END:VCALENDAR
