BEGIN:VCALENDAR
VERSION:2.0
PRODID:-//ChamberMaster//Event Calendar 2.0//EN
METHOD:PUBLISH
X-PUBLISHED-TTL:P3D
REFRESH-INTERVAL:P3D
CALSCALE:GREGORIAN
BEGIN:VEVENT
DTSTART:20121208T160000Z
DTEND:20121208T173000Z
X-MICROSOFT-CDO-ALLDAYEVENT:FALSE
SUMMARY:Kaleidoscope Workshop by Donna Hardin December 8th
DESCRIPTION:Kaleidoscope Workshop by Donna Hardin December 8th\n\n\n\nWhat a great opportunity\, learn how to set the mirrors and make your own Kaleidoscope. This workshop will be taught by Donna Hardin\, a creative expert in the field of Kaleidoscopes. She will take you step by step through the process of creating a beautiful Kaleidoscope to hang on your Christmas tree or give as a gift. The class is an hour and a half\, all materials are supplied\, class fee is $25.00. There is a minimum of five people needed to make the class\, sign up by December 5th\, to reserve you spot.\n\n\n\n1. Design the exterior of your ornament.\n\n2. Find out the secret of the interior of kaleidoscopes.\n\n3. Choose items for the globe of the ornament.\n\n4. Learn the history of kaleidoscopes.
X-ALT-DESC;FMTTYPE=text/html:<u><strong>Kaleidoscope Workshop by Donna Hardin December 8th</strong></u><br />\n<br />\nWhat a great opportunity\, learn how to set the mirrors and make your own Kaleidoscope. This workshop will be taught by Donna Hardin\, a creative expert in the field of Kaleidoscopes. She will take you step by step through the process of creating a beautiful Kaleidoscope to hang on your Christmas tree or give as a gift. The class is an hour and a half\, all materials are supplied\, class fee is $25.00. There is a minimum of five people needed to make the class\, sign up by December 5th\, to reserve you spot.<br />\n<br />\n1. Design the exterior of your ornament.<br />\n2. Find out the secret of the interior of kaleidoscopes.<br />\n3. Choose items for the globe of the ornament.<br />\n4. Learn the history of kaleidoscopes.
LOCATION:106 East Texas St.\, Grapevine\, TX\, 76051\, United States
UID:e.770.163085
SEQUENCE:3
DTSTAMP:20260423T152327Z
URL:https://business.grapevinechamber.org/events/details/kaleidoscope-workshop-by-donna-hardin-december-8th-12-08-2012-163085
END:VEVENT

END:VCALENDAR
