BEGIN:VCALENDAR
VERSION:2.0
PRODID:-//ChamberMaster//Event Calendar 2.0//EN
METHOD:PUBLISH
X-PUBLISHED-TTL:P3D
REFRESH-INTERVAL:P3D
CALSCALE:GREGORIAN
BEGIN:VEVENT
DTSTART:20130119T003000Z
DTEND:20130119T223000Z
X-MICROSOFT-CDO-ALLDAYEVENT:FALSE
SUMMARY:Joyfully Jobless Weekend Workshops with Barbara Winter
DESCRIPTION:Barbara Winter\, author of "Making a Living Without a Job\," in print for 20 years\, is coming to Dallas to present 3 workshops: Making a Living Without a Job\, Establish Yourself as an Expert\, and How to Support Your Wanderlust (for those who love to travel and want to get paid to do it). These are the 3 most-requested presentations by Barbara Winter\, the "joyfully jobless muse\," who travels the country - and other parts of the world - teaching about the art of entrepreneurship to people who want to tailor their business to create a lifestyle they love. Expect the other attendees to be creative and interested in connecting with other entrepreneurs for support and encouragement. Each workshop is 3 hours in length.
X-ALT-DESC;FMTTYPE=text/html:Barbara Winter\, author of &quot\;Making a Living Without a Job\,&quot\; in print for 20 years\, is coming to Dallas to present 3 workshops: Making a Living Without a Job\, Establish Yourself as an Expert\, and How to Support Your Wanderlust (for those who love to travel and want to get paid to do it). These are the 3 most-requested presentations by Barbara Winter\, the &quot\;joyfully jobless muse\,&quot\; who travels the country - and other parts of the world - teaching about the art of entrepreneurship to people who want to tailor their business to create a lifestyle they love. Expect the other attendees to be creative and interested in connecting with other entrepreneurs for support and encouragement. Each workshop is 3 hours in length.
LOCATION:9330 N. Central Expwy Dallas\, TX 75231 (Event Facility at Fellowship Bible Church Dallas behind Bed Bath & Beyond on Park Lane)
UID:e.770.163357
SEQUENCE:3
DTSTAMP:20260421T210734Z
URL:https://business.grapevinechamber.org/events/details/joyfully-jobless-weekend-workshops-with-barbara-winter-01-18-2013-163357
END:VEVENT

END:VCALENDAR
