BEGIN:VCALENDAR
VERSION:2.0
PRODID:-//ChamberMaster//Event Calendar 2.0//EN
METHOD:PUBLISH
X-PUBLISHED-TTL:P3D
REFRESH-INTERVAL:P3D
CALSCALE:GREGORIAN
BEGIN:VEVENT
DTSTART:20130207T230000Z
DTEND:20130208T010000Z
X-MICROSOFT-CDO-ALLDAYEVENT:FALSE
SUMMARY:Joint SSA Meeting
DESCRIPTION:Hosted by Bob's Steak & Chop House\n\n\n\nBy Invitation Only
X-ALT-DESC;FMTTYPE=text/html:Hosted by Bob&#39\;s Steak &amp\; Chop House<br />\n<br />\nBy Invitation Only
LOCATION:Bob's Steak & Chop House 1255 S. Main St. Grapevine\, TX 76051
UID:e.770.163365
SEQUENCE:3
DTSTAMP:20260421T192434Z
URL:https://business.grapevinechamber.org/events/details/joint-ssa-meeting-02-07-2013-163365
END:VEVENT

END:VCALENDAR
