BEGIN:VCALENDAR
VERSION:2.0
PRODID:-//ChamberMaster//Event Calendar 2.0//EN
METHOD:PUBLISH
X-PUBLISHED-TTL:P3D
REFRESH-INTERVAL:P3D
CALSCALE:GREGORIAN
BEGIN:VEVENT
DTSTART:20130430T223000Z
DTEND:20130430T223000Z
X-MICROSOFT-CDO-ALLDAYEVENT:FALSE
SUMMARY:Joint Ribbon Cutting Britt Sharrock - Golf Instruction & Cindy Jones - Mary Kay
DESCRIPTION:Britt Sharrock Golf Instruction\n\n	\n\n	Cindy Jones\, Beauty Consultant for Mary Kay
X-ALT-DESC;FMTTYPE=text/html:<p>\n	<span style="font-size:16px\;"><span style="font-family: arial\;">Britt Sharrock Golf Instruction<br />\n	<br />\n	Cindy Jones\, Beauty Consultant for Mary Kay</span></span></p>\n
LOCATION:Cowboys Golf Club 1600 Fairway Dr. Grapevine\, TX 76051
UID:e.770.163511
SEQUENCE:3
DTSTAMP:20260421T161959Z
URL:https://business.grapevinechamber.org/events/details/joint-ribbon-cutting-britt-sharrock-golf-instruction-cindy-jones-mary-kay-04-30-2013-163511
END:VEVENT

END:VCALENDAR
