BEGIN:VCALENDAR
VERSION:2.0
PRODID:-//ChamberMaster//Event Calendar 2.0//EN
METHOD:PUBLISH
X-PUBLISHED-TTL:P3D
REFRESH-INTERVAL:P3D
CALSCALE:GREGORIAN
BEGIN:VEVENT
DTSTART;VALUE=DATE:20130320
DTEND;VALUE=DATE:20130322
TRANSP:TRANSPARENT
X-MICROSOFT-CDO-ALLDAYEVENT:TRUE
SUMMARY:Job Fair at Hilton DFW Lakes Exeutive Conference Center
DESCRIPTION:Looking for a position in the Hospitality Industry? The Hilton DFW Lakes Hotel is hiring. DON'T DELAY Start your career with us now .. Attend our JOB FAIR\n\n\n\nWe will have the decision makers available and ready to interview you!
X-ALT-DESC;FMTTYPE=text/html:Looking for a position in the Hospitality Industry? The Hilton DFW Lakes Hotel is hiring. DON&rsquo\;T DELAY Start your career with us now&hellip\;.. Attend our JOB FAIR<br />\n<br />\nWe will have the decision makers available and ready to interview you! 
LOCATION:Hilton DFW Lakes Executive Conference Center 1800 Highway 26 East Grapevine\, TX 76051
UID:e.770.163449
SEQUENCE:3
DTSTAMP:20260421T180221Z
URL:https://business.grapevinechamber.org/events/details/job-fair-at-hilton-dfw-lakes-exeutive-conference-center-03-20-2013-163449
END:VEVENT

END:VCALENDAR
