BEGIN:VCALENDAR
VERSION:2.0
PRODID:-//ChamberMaster//Event Calendar 2.0//EN
METHOD:PUBLISH
X-PUBLISHED-TTL:P3D
REFRESH-INTERVAL:P3D
CALSCALE:GREGORIAN
BEGIN:VEVENT
DTSTART:20121219T003000Z
DTEND:20121219T013000Z
X-MICROSOFT-CDO-ALLDAYEVENT:FALSE
SUMMARY:iPad Mini Giveaway At Special Holiday Event
DESCRIPTION:It's that time of year when we want to believe in something magical. LASIK isn't magic\, but it can produce seemingly magical results if you rely on glasses or contact lenses every day. Our Believe in LASIK Holiday Event will answer any questions you might have to help you decide if LASIK is right for you.\n\n\n\nJust for attending\, you can register to win an iPad Mini to be given away that night. The 1-hour event will be led by one of our expert doctors\, who will explain things in simple terms. There's no obligation and no purchase necessary. It's entirely Free and open to anyone 18 years or older. The iPad Mini will be awarded to one lucky winner by random drawing\, and you must be present to win.
X-ALT-DESC;FMTTYPE=text/html:It&rsquo\;s that time of year when we want to believe in something magical. LASIK isn&rsquo\;t magic\, but it can produce seemingly magical results if you rely on glasses or contact lenses every day. Our <strong><em>Believe in LASIK Holiday Event</em></strong> will answer any questions you might have to help you decide if LASIK is right for you.<br />\n<br />\nJust for attending\, you can <u><em>register to win an iPad Mini </em></u>to be given away that night. The 1-hour event will be led by one of our expert doctors\, who will explain things in simple terms. There&rsquo\;s no obligation and no purchase necessary. It&rsquo\;s entirely Free and open to anyone 18 years or older. The iPad Mini will be awarded to one lucky winner by random drawing\, and you must be present to win.
LOCATION:Eye Consultants of Texas 2201 Westgate Plaza Grapevine\, TX 76051
UID:e.770.163321
SEQUENCE:3
DTSTAMP:20260423T152411Z
URL:https://business.grapevinechamber.org/events/details/ipad-mini-giveaway-at-special-holiday-event-12-18-2012-163321
END:VEVENT

END:VCALENDAR
