BEGIN:VCALENDAR
VERSION:2.0
PRODID:-//ChamberMaster//Event Calendar 2.0//EN
METHOD:PUBLISH
X-PUBLISHED-TTL:P3D
REFRESH-INTERVAL:P3D
CALSCALE:GREGORIAN
BEGIN:VEVENT
DTSTART:20240203T190000Z
DTEND:20240203T210000Z
X-MICROSOFT-CDO-ALLDAYEVENT:FALSE
SUMMARY:Independent Author Book Sale
DESCRIPTION:Indie authors self-publish their own work. \n\nMeet & support local indie authors from a variety of genres: \n\n-Poetry\n\n-General Fiction \n\n-Informational\n\n-Paranormal Thriller\n\n-And MORE!
X-ALT-DESC;FMTTYPE=text/html:<p>Indie authors self-publish their own work.&nbsp\;<br />\nMeet &amp\; support local indie authors from a variety of genres:&nbsp\;<br />\n-Poetry<br />\n-General Fiction&nbsp\;<br />\n-Informational<br />\n-Paranormal Thriller<br />\n-And MORE!</p>\n
LOCATION:Your CBD Store Southlake 2354 E State Hwy 114 Southlake\, TX 76092
UID:e.770.198259
SEQUENCE:3
DTSTAMP:20260424T130216Z
URL:https://business.grapevinechamber.org/events/details/independent-author-book-sale-198259
END:VEVENT

END:VCALENDAR
