BEGIN:VCALENDAR
VERSION:2.0
PRODID:-//ChamberMaster//Event Calendar 2.0//EN
METHOD:PUBLISH
X-PUBLISHED-TTL:P3D
REFRESH-INTERVAL:P3D
CALSCALE:GREGORIAN
BEGIN:VEVENT
DTSTART:20130301T170000Z
DTEND:20130301T200000Z
X-MICROSOFT-CDO-ALLDAYEVENT:FALSE
SUMMARY:Independence Day Celebration at LegacyTexas Bank
DESCRIPTION:
X-ALT-DESC;FMTTYPE=text/html:
LOCATION:LegacyTexas Bank 900 S. Main St. Grapevine\, TX 76051
UID:e.770.163359
SEQUENCE:3
DTSTAMP:20260421T180131Z
URL:https://business.grapevinechamber.org/events/details/independence-day-celebration-at-legacytexas-bank-03-01-2013-163359
END:VEVENT

END:VCALENDAR
