BEGIN:VCALENDAR
VERSION:2.0
PRODID:-//ChamberMaster//Event Calendar 2.0//EN
METHOD:PUBLISH
X-PUBLISHED-TTL:P3D
REFRESH-INTERVAL:P3D
CALSCALE:GREGORIAN
BEGIN:VEVENT
DTSTART:20230921T210000Z
DTEND:20230921T230000Z
X-MICROSOFT-CDO-ALLDAYEVENT:FALSE
SUMMARY:Ice Cream Social with Vine House Real Estate!
DESCRIPTION:Join Vine House Real Estate for an Ice Cream Social! Stop by\, say hi and get your free ice cream!
X-ALT-DESC;FMTTYPE=text/html:Join Vine House Real Estate for an Ice Cream Social! Stop by\, say hi and get your free ice cream!
LOCATION:The parking lot behind 129 S. Main St in Grapevine (at the corner of Wall St and Jenkins St)
UID:e.770.197558
SEQUENCE:3
DTSTAMP:20260424T221501Z
URL:https://business.grapevinechamber.org/events/details/ice-cream-social-with-vine-house-real-estate-197558
END:VEVENT

END:VCALENDAR
