BEGIN:VCALENDAR
VERSION:2.0
PRODID:-//ChamberMaster//Event Calendar 2.0//EN
METHOD:PUBLISH
X-PUBLISHED-TTL:P3D
REFRESH-INTERVAL:P3D
CALSCALE:GREGORIAN
BEGIN:VEVENT
DTSTART:20220820T170000Z
DTEND:20220820T230000Z
X-MICROSOFT-CDO-ALLDAYEVENT:FALSE
SUMMARY:Hop & Sting Art & Vendor Market
DESCRIPTION:Family and Pet Friendly Art & Artisan Market at Hop & Sting!\n\nBring the family\, shop small\, & enjoy some craft beer! 12-6 PM\n\nFood Trucks: Vaqueros Bar-B-Q\n\n \n\nAll vendor fees go towards our nonprofit organization to help sexual assault survivors afford art therapy and creative healing programs.
X-ALT-DESC;FMTTYPE=text/html:<div>Family and Pet Friendly Art &amp\; Artisan Market at Hop &amp\; Sting!</div>\n\n<div>Bring the family\, shop small\, &amp\; enjoy some craft beer! 12-6 PM</div>\n\n<div>Food Trucks: Vaqueros Bar-B-Q</div>\n\n<div>&nbsp\;</div>\n\n<div>All vendor fees go towards our nonprofit organization to help sexual assault survivors afford art therapy and creative healing programs.</div>\n
LOCATION:Hop & Sting Brewing Co 906 Jean St. Grapevine\, Tx 76051
UID:e.770.195440
SEQUENCE:3
DTSTAMP:20260425T194340Z
URL:https://business.grapevinechamber.org/events/details/hop-sting-art-vendor-market-195440
END:VEVENT

END:VCALENDAR
