BEGIN:VCALENDAR
VERSION:2.0
PRODID:-//ChamberMaster//Event Calendar 2.0//EN
METHOD:PUBLISH
X-PUBLISHED-TTL:P3D
REFRESH-INTERVAL:P3D
CALSCALE:GREGORIAN
BEGIN:VEVENT
DTSTART:20230916T140000Z
DTEND:20230916T150000Z
X-MICROSOFT-CDO-ALLDAYEVENT:FALSE
SUMMARY:Holistic Women & Coffee Chats - RSVP required
DESCRIPTION:Join us for a fabulous morning of coffee\, conversation\, and connection at Liberated Chiropractic in Grapevine\, TX\, USA. This in-person event is designed for women who are passionate about holistic living. Whether you're a seasoned holistic guru or just starting your journey\, this is the perfect opportunity to meet like-minded women and share your experiences. Discover new holistic tips\, tricks\, and secrets while enjoying a warm cup of coffee. Come and be a part of our empowering community as we explore topics like mindfulness\, self-care\, nutrition\, and more. Don't miss out on this unique event where you can relax\, learn\, and connect with incredible women. We can't wait to see you there!\n\n\n\nPLEASE RSVP\n\n\n\nSeptember discussion is lymphatics\, inflammation and drainage.\n\nOctober event 10/28 over gut and vagal tone!
X-ALT-DESC;FMTTYPE=text/html:Join us for a fabulous morning of coffee\, conversation\, and connection at Liberated Chiropractic in Grapevine\, TX\, USA. This in-person event is designed for women who are passionate about holistic living. Whether you&#39\;re a seasoned holistic guru or just starting your journey\, this is the perfect opportunity to meet like-minded women and share your experiences. Discover new holistic tips\, tricks\, and secrets while enjoying a warm cup of coffee. Come and be a part of our empowering community as we explore topics like mindfulness\, self-care\, nutrition\, and more. Don&#39\;t miss out on this unique event where you can relax\, learn\, and connect with incredible women. We can&#39\;t wait to see you there!<br />\n<br />\nPLEASE RSVP<br />\n<br />\nSeptember discussion is lymphatics\, inflammation and drainage.<br />\nOctober event 10/28 over gut and vagal tone!&nbsp\;
LOCATION:Liberated Chiropractic 4100 Heritage Ave. Suite 101 Grapevine TX 76051
UID:e.770.197507
SEQUENCE:3
DTSTAMP:20260424T202323Z
URL:https://business.grapevinechamber.org/events/details/holistic-women-coffee-chats-rsvp-required-197507
END:VEVENT

END:VCALENDAR
