BEGIN:VCALENDAR
VERSION:2.0
PRODID:-//ChamberMaster//Event Calendar 2.0//EN
METHOD:PUBLISH
X-PUBLISHED-TTL:P3D
REFRESH-INTERVAL:P3D
CALSCALE:GREGORIAN
BEGIN:VEVENT
DTSTART:20121102T133000Z
DTEND:20121102T183000Z
X-MICROSOFT-CDO-ALLDAYEVENT:FALSE
SUMMARY:Heart of North Texas Business Conference
DESCRIPTION:The 16th Annual Heart of North Texas Business Conference is Friday\, November 2nd. The theme is "Region on the Grow\," and the speakers will focus on how the Northeast Tarrant County has pulled itself out of the economic recession.\n\n\n\nThe keynote speaker will be Robert Hastings\, Senior Vice President and Chief of Staff at Bell Helicopter\, who will discuss some of the latest projects at Bell.\n\n\n\nOther topics during the session will include predictions about the upcoming election\, General Electric's new plant in Alliance and the Viridian Development in Euless.\n\n\n\nDOWNLOAD REGISTRATION FORM
X-ALT-DESC;FMTTYPE=text/html:<span style="font-size:14px\;"><span style="font-family: arial\; ">The <strong>16th Annual Heart of North Texas Business Conference</strong> is Friday\, November 2nd. The&nbsp\;theme is &ldquo\;Region on the Grow\,&rdquo\; and the speakers will focus on how the Northeast Tarrant County has pulled itself out of the economic recession.<br />\n<br />\nThe <strong>keynote speaker</strong> will be Robert Hastings\, Senior Vice President and Chief of Staff at Bell Helicopter\, who will discuss some of the latest projects at Bell.<br />\n<br />\n<strong>Other topics</strong> during the session will include predictions about the upcoming election\, General Electric&rsquo\;s new plant in Alliance and the Viridian Development in Euless.<br />\n<br />\n<em><strong><a href="http://www.grapevinechamber.org/files/2012HNT-Registration-Form.pdf" target="_blank">DOWNLOAD REGISTRATION FORM</a></strong></em></span></span>
LOCATION:Tarrant County College Northeast Campus 828 W. Harwood Road Hurst\, TX 76054
UID:e.770.163074
SEQUENCE:3
DTSTAMP:20260420T110147Z
URL:https://business.grapevinechamber.org/events/details/heart-of-north-texas-business-conference-11-02-2012-163074
END:VEVENT

END:VCALENDAR
