BEGIN:VCALENDAR
VERSION:2.0
PRODID:-//ChamberMaster//Event Calendar 2.0//EN
METHOD:PUBLISH
X-PUBLISHED-TTL:P3D
REFRESH-INTERVAL:P3D
CALSCALE:GREGORIAN
BEGIN:VEVENT
DTSTART:20121025T220000Z
DTEND:20121026T000000Z
X-MICROSOFT-CDO-ALLDAYEVENT:FALSE
SUMMARY:Halloween Costume Mixer at Embassy Suites
DESCRIPTION:A networking event to introduce Chamber businesses to the host corporation as well as providing an opportunity for Chamber Members to build a network of customers and contacts in the Grapevine area.\n\n\n\nThis event is combined with the Flower Mound Chamber of Commerce.
X-ALT-DESC;FMTTYPE=text/html:A networking event to introduce Chamber businesses to the host corporation as well as providing an opportunity for Chamber Members to build a network of customers and contacts in the Grapevine area.<br />\n<br />\n<em><strong>This event is combined with the Flower Mound Chamber of Commerce.</strong></em> 
LOCATION:Embassy Suites - Outdoor World 2401 Bass Pro Dr. Grapevine\, TX 76051
UID:e.770.162722
SEQUENCE:3
DTSTAMP:20260422T110855Z
URL:https://business.grapevinechamber.org/events/details/halloween-costume-mixer-at-embassy-suites-10-25-2012-162722
END:VEVENT

END:VCALENDAR
