BEGIN:VCALENDAR
VERSION:2.0
PRODID:-//ChamberMaster//Event Calendar 2.0//EN
METHOD:PUBLISH
X-PUBLISHED-TTL:P3D
REFRESH-INTERVAL:P3D
CALSCALE:GREGORIAN
BEGIN:VEVENT
DTSTART:20130806T163000Z
DTEND:20130806T163000Z
X-MICROSOFT-CDO-ALLDAYEVENT:FALSE
SUMMARY:Groundbreaking for Meadowood Assisted Living & Memory Care at the Vineyards
DESCRIPTION:Luncheon to follow at Delaney Vineyards (BY INVITATION ONLY)
X-ALT-DESC;FMTTYPE=text/html:Luncheon to follow at Delaney Vineyards <strong><em>(BY INVITATION ONLY)</em></strong>
LOCATION:4545 Merlot Ave. Grapevine\, TX 76051
UID:e.770.163613
SEQUENCE:3
DTSTAMP:20260421T081314Z
URL:https://business.grapevinechamber.org/events/details/groundbreaking-for-meadowood-assisted-living-memory-care-at-the-vineyards-08-06-2013-163613
END:VEVENT

END:VCALENDAR
