BEGIN:VCALENDAR
VERSION:2.0
PRODID:-//ChamberMaster//Event Calendar 2.0//EN
METHOD:PUBLISH
X-PUBLISHED-TTL:P3D
REFRESH-INTERVAL:P3D
CALSCALE:GREGORIAN
BEGIN:VEVENT
DTSTART:20250403T164500Z
DTEND:20250403T180000Z
X-MICROSOFT-CDO-ALLDAYEVENT:FALSE
SUMMARY:Grapevine Young Professionals Monthly Luncheon- tailored for young professionals ages 21-39
DESCRIPTION:Program: Building and Protecting A Dynamic Winning Culture in Your Business & Personal Life\n\nSponsor: MiMutual Mortgage\n\nCaterer: Velvet Taco
X-ALT-DESC;FMTTYPE=text/html:<br />\n<br />\nProgram: Building and Protecting A Dynamic Winning Culture in Your Business &amp\; Personal Life<br />\nSponsor: MiMutual Mortgage<br />\nCaterer: Velvet Taco<br />\n&nbsp\;
LOCATION:Blankenship Business Center 200 Vine Street E Grapevine\, TX 76051
UID:e.770.199589
SEQUENCE:3
DTSTAMP:20260420T084646Z
URL:https://business.grapevinechamber.org/events/details/grapevine-young-professionals-monthly-luncheon-tailored-for-young-professionals-ages-21-39-04-03-2025-199589
END:VEVENT

END:VCALENDAR
