BEGIN:VCALENDAR
VERSION:2.0
PRODID:-//ChamberMaster//Event Calendar 2.0//EN
METHOD:PUBLISH
X-PUBLISHED-TTL:P3D
REFRESH-INTERVAL:P3D
CALSCALE:GREGORIAN
BEGIN:VEVENT
DTSTART:20250306T174500Z
DTEND:20250306T190000Z
X-MICROSOFT-CDO-ALLDAYEVENT:FALSE
SUMMARY:Grapevine Young Professionals Monthly Luncheon- tailored for young professionals ages 21-39
DESCRIPTION:Program: Grapevine CVB\n\nSponsor: Prosperity Bank\n\nCaterer: Sauce'd Pizza & Smashburgers
X-ALT-DESC;FMTTYPE=text/html:<p>&nbsp\;</p>\n<br />\nProgram: Grapevine CVB<br />\nSponsor: Prosperity Bank<br />\nCaterer: Sauce&#39\;d Pizza &amp\; Smashburgers
LOCATION:Blankenship Business Center 200 Vine Street E Grapevine\, TX 76051
UID:e.770.199588
SEQUENCE:3
DTSTAMP:20260426T033320Z
URL:https://business.grapevinechamber.org/events/details/grapevine-young-professionals-monthly-luncheon-tailored-for-young-professionals-ages-21-39-03-06-2025-199588
END:VEVENT

END:VCALENDAR
