BEGIN:VCALENDAR
VERSION:2.0
PRODID:-//ChamberMaster//Event Calendar 2.0//EN
METHOD:PUBLISH
X-PUBLISHED-TTL:P3D
REFRESH-INTERVAL:P3D
CALSCALE:GREGORIAN
BEGIN:VEVENT
DTSTART:20121207T010000Z
DTEND:20121207T030000Z
X-MICROSOFT-CDO-ALLDAYEVENT:FALSE
SUMMARY:Grapevine Parade of Lights "Holiday Story Time"
DESCRIPTION:Theme: "Holiday Story Time"\n\n\n\nThe Register Online button is for Parade Participants only. Application Deadline is Nov. 28 at 5 p.m.\n\n\n\nPlease read Parade Entry Form Guidelines prior to registering.
X-ALT-DESC;FMTTYPE=text/html:<span style="font-size:16px\;"><em><strong><span style="font-family: arial\;">Theme: &quot\;Holiday Story Time&quot\;<br />\n<br />\nThe Register Online button is for Parade Participants only. Application Deadline is Nov. 28 at 5 p.m.<br />\n<br />\nPlease read <a href="http://www.grapevinechamber.org/files/ChristmasParadeRulesfor2012.pdf" target="_blank">Parade Entry Form Guidelines</a> prior to registering.<br />\n<br />\n</span></strong></em></span>
LOCATION:Historic Downtown Grapevine
UID:e.770.163043
SEQUENCE:3
DTSTAMP:20260423T152451Z
URL:https://business.grapevinechamber.org/events/details/grapevine-parade-of-lights-holiday-story-time-12-06-2012-163043
END:VEVENT

END:VCALENDAR
