BEGIN:VCALENDAR
VERSION:2.0
PRODID:-//ChamberMaster//Event Calendar 2.0//EN
METHOD:PUBLISH
X-PUBLISHED-TTL:P3D
REFRESH-INTERVAL:P3D
CALSCALE:GREGORIAN
BEGIN:VEVENT
DTSTART:20130414T003000Z
DTEND:20130414T030000Z
X-MICROSOFT-CDO-ALLDAYEVENT:FALSE
SUMMARY:Grapevine Opry - Women of Country Music
DESCRIPTION:From Patsy Cline to Taylor Swift\, our talented Grapevine Opry performers salute the female stars of country music.
X-ALT-DESC;FMTTYPE=text/html:<span style="font-size: 14px\;"><span style="font-family: times new roman\;"><span style="font-weight: bold\; language: en-US\;">From Patsy Cline&nbsp\;</span><span style="font-weight: bold\; language: en-US\;">to Taylor Swift\, our talented Grapevine Opry performers&nbsp\;salute the female stars of&nbsp\;country music.</span></span></span>
LOCATION:Palace Theatre 300 S. Main Street Grapevine 76051
UID:e.770.163504
SEQUENCE:3
DTSTAMP:20260421T162016Z
URL:https://business.grapevinechamber.org/events/details/grapevine-opry-women-of-country-music-04-13-2013-163504
END:VEVENT

END:VCALENDAR
