BEGIN:VCALENDAR
VERSION:2.0
PRODID:-//ChamberMaster//Event Calendar 2.0//EN
METHOD:PUBLISH
X-PUBLISHED-TTL:P3D
REFRESH-INTERVAL:P3D
CALSCALE:GREGORIAN
BEGIN:VEVENT
DTSTART:20130421T003000Z
DTEND:20130421T030000Z
X-MICROSOFT-CDO-ALLDAYEVENT:FALSE
SUMMARY:Grapevine Opry - Country Music Showcase
DESCRIPTION:High energy showcase featuring contemporary & traditional country\, Western\, bluegrass & fifties!
X-ALT-DESC;FMTTYPE=text/html:<p>\n	<span lang="EN">High energy showcase featuring contemporary &amp\; traditional country\, Western\, bluegrass &amp\; fifties!</span></p>\n
LOCATION:Palace Theatre 300 S. Main Street Grapevine 76051
UID:e.770.163505
SEQUENCE:3
DTSTAMP:20260421T161840Z
URL:https://business.grapevinechamber.org/events/details/grapevine-opry-country-music-showcase-04-20-2013-163505
END:VEVENT

END:VCALENDAR
