BEGIN:VCALENDAR
VERSION:2.0
PRODID:-//ChamberMaster//Event Calendar 2.0//EN
METHOD:PUBLISH
X-PUBLISHED-TTL:P3D
REFRESH-INTERVAL:P3D
CALSCALE:GREGORIAN
BEGIN:VEVENT
DTSTART:20130113T013000Z
DTEND:20130113T040000Z
X-MICROSOFT-CDO-ALLDAYEVENT:FALSE
SUMMARY:Grapevine Opry Band & Friends
DESCRIPTION:The Grapevine Opry band is a bunch of talented men and women who play all year for many different performers but on this night\, they choose who they play for and what will be sung (and they'll also show off a bit).
X-ALT-DESC;FMTTYPE=text/html:<span lang="en-US" style="font-family: 'arial narrow'\; font-weight: bold\; mso-default-font-family: 'arial narrow'\; mso-ascii-font-family: 'arial narrow'\; mso-latin-font-family: 'arial narrow'\; mso-greek-font-family: 'arial narrow'\; mso-cyrillic-font-family: 'arial narrow'\; mso-latinext-font-family: 'arial narrow'\; language: en-us\; mso-ansi-language: en-us">The Grapevine Opry&nbsp\;band&nbsp\;is a bunch of talented men and women who </span><span lang="en-US" style="font-family: 'arial narrow'\; font-weight: bold\; mso-default-font-family: 'arial narrow'\; mso-ascii-font-family: 'arial narrow'\; mso-latin-font-family: 'arial narrow'\; mso-greek-font-family: 'arial narrow'\; mso-cyrillic-font-family: 'arial narrow'\; mso-latinext-font-family: 'arial narrow'\; language: en-us\; mso-ansi-language: en-us">play all year for many different performers but on</span><span lang="en-US" style="font-family: 'arial narrow'\; font-weight: bold\; mso-default-font-family: 'arial narrow'\; mso-ascii-font-family: 'arial narrow'\; mso-latin-font-family: 'arial narrow'\; mso-greek-font-family: 'arial narrow'\; mso-cyrillic-font-family: 'arial narrow'\; mso-latinext-font-family: 'arial narrow'\; language: en-us\; mso-ansi-language: en-us"><span style="mso-tab-count: 1"> </span>this night\, they&nbsp\;choose who they play for and&nbsp\;</span><span lang="en-US" style="font-family: 'arial narrow'\; font-weight: bold\; mso-default-font-family: 'arial narrow'\; mso-ascii-font-family: 'arial narrow'\; mso-latin-font-family: 'arial narrow'\; mso-greek-font-family: 'arial narrow'\; mso-cyrillic-font-family: 'arial narrow'\; mso-latinext-font-family: 'arial narrow'\; language: en-us\; mso-ansi-language: en-us">what will be sung (and they&rsquo\;ll also show off a bit).<o:p></o:p></span>\n<p class="MsoNormal" style="mso-pagination: none">\n	<span lang="en-US" style="language: en-us">&nbsp\;<o:p></o:p></span></p>\n
LOCATION:Grapevine Opry / Palace Theatre 300 S Main Street Grapevine\, TX
UID:e.770.163327
SEQUENCE:3
DTSTAMP:20260421T210736Z
URL:https://business.grapevinechamber.org/events/details/grapevine-opry-band-friends-01-12-2013-163327
END:VEVENT

END:VCALENDAR
