BEGIN:VCALENDAR
VERSION:2.0
PRODID:-//ChamberMaster//Event Calendar 2.0//EN
METHOD:PUBLISH
X-PUBLISHED-TTL:P3D
REFRESH-INTERVAL:P3D
CALSCALE:GREGORIAN
BEGIN:VEVENT
DTSTART:20121027T150000Z
DTEND:20121027T190000Z
X-MICROSOFT-CDO-ALLDAYEVENT:FALSE
SUMMARY:Grapevine Fire Department Open House
DESCRIPTION:In Recognition of Fire Prevention Week\, you are invited to visit your local Grapevine Fire Stations!\n\n\n	\n		Meet Firefighters\n	\n		Learn fire safety tips\n	\n		See the fire engines\n\n\n\nStations:\n\n	\n		#1 - 601 Boyd Dr.\n	\n		#2 - 2801 Panhandle Dr.\n	\n		#3 - 2627 Briarwood Dr.\n	\n		#4 - 4500 Merlot Ave.\n	\n		#5 - 2801 Grapevine Mills Blvd. North
X-ALT-DESC;FMTTYPE=text/html:<span style="font-size:14px\;"><span style="font-family: arial\; ">In Recognition of Fire Prevention Week\, you are invited to visit your local Grapevine Fire Stations!</span></span><br />\n<ul>\n	<li>\n		<span style="font-size:14px\;"><span style="font-family: arial\; ">Meet Firefighters</span></span></li>\n	<li>\n		<span style="font-size:14px\;"><span style="font-family: arial\; ">Learn fire safety tips</span></span></li>\n	<li>\n		<span style="font-size:14px\;"><span style="font-family: arial\; ">See the fire engines</span></span></li>\n</ul>\n<br />\n<span style="font-size:14px\;"><span style="font-family: arial\; "><strong>Stations:</strong></span></span>\n<ul>\n	<li>\n		<span style="font-size:14px\;"><span style="font-family: arial\; ">#1 - 601 Boyd Dr.</span></span></li>\n	<li>\n		<span style="font-size:14px\;"><span style="font-family: arial\; ">#2 - 2801 Panhandle Dr.</span></span></li>\n	<li>\n		<span style="font-size:14px\;"><span style="font-family: arial\; ">#3 - 2627 Briarwood Dr.</span></span></li>\n	<li>\n		<span style="font-size:14px\;"><span style="font-family: arial\; ">#4 - 4500 Merlot Ave.</span></span></li>\n	<li>\n		<span style="font-size:14px\;"><span style="font-family: arial\; ">#5 - 2801 Grapevine Mills Blvd. North</span></span></li>\n</ul>\n
LOCATION:
UID:e.770.163075
SEQUENCE:3
DTSTAMP:20260422T110347Z
URL:https://business.grapevinechamber.org/events/details/grapevine-fire-department-open-house-10-27-2012-163075
END:VEVENT

END:VCALENDAR
