BEGIN:VCALENDAR
VERSION:2.0
PRODID:-//ChamberMaster//Event Calendar 2.0//EN
METHOD:PUBLISH
X-PUBLISHED-TTL:P3D
REFRESH-INTERVAL:P3D
CALSCALE:GREGORIAN
BEGIN:VEVENT
DTSTART:20230724T220000Z
DTEND:20230725T010000Z
X-MICROSOFT-CDO-ALLDAYEVENT:FALSE
SUMMARY:Grapevine Community Fentanyl Poisoning\, Overdose and SUD's Awareness Event
DESCRIPTION:Grapevine Community Fentanyl\, Overdose\, SUD's Awareness Event on July 24th at the GRAPEVINE CONVENTION CENTER. \n\n \n\nThe Dallas DEA will be speaking and talking about fentanyl and other drug threats in our area.\n\n \n\nQ&A panel of people in active recovery to answer addiction and recovery questions. \n\n \n\nResource tables open at 5:00pm and speakers begin at 6:00pm.\n\n \n\nThis is a FREE event!!!\n\n \n\n \n\n(6) Fentanyl Poisoning\, Overdose & Substance Use Disorders (SUDS) Awareness - A Community Event | Facebook
X-ALT-DESC;FMTTYPE=text/html:<div>Grapevine Community Fentanyl\, Overdose\, SUD&#39\;s Awareness Event on July 24th at the GRAPEVINE CONVENTION CENTER.&nbsp\;</div>\n\n<div>&nbsp\;</div>\n\n<div>The Dallas DEA will be speaking and talking about fentanyl and other drug threats in our area.</div>\n\n<div>&nbsp\;</div>\n\n<div>Q&amp\;A panel of people in active recovery to answer addiction and recovery questions.&nbsp\;</div>\n\n<div>&nbsp\;</div>\n\n<div>Resource tables open at 5:00pm and speakers begin at 6:00pm.</div>\n\n<div>&nbsp\;</div>\n\n<div>This is a FREE event!!!</div>\n\n<div>&nbsp\;</div>\n\n<div>&nbsp\;</div>\n\n<div><a href="https://www.facebook.com/events/650212517012819/?ref=newsfeed" style="color: rgb(17\, 85\, 204)\;" target="_blank">(6) Fentanyl Poisoning\, Overdose &amp\; Substance Use Disorders (SUDS) Awareness - A Community Event | Facebook</a></div>\n\n<div>&nbsp\;</div>\n\n<div>&nbsp\;</div>\n
LOCATION:Grapevine Convention Center 1209 S. Main Street Grapevine\, Texas 76051
UID:e.770.197297
SEQUENCE:3
DTSTAMP:20260425T015300Z
URL:https://business.grapevinechamber.org/events/details/grapevine-community-fentanyl-poisoning-overdose-and-sud-s-awareness-event-197297
END:VEVENT

END:VCALENDAR
