BEGIN:VCALENDAR
VERSION:2.0
PRODID:-//ChamberMaster//Event Calendar 2.0//EN
METHOD:PUBLISH
X-PUBLISHED-TTL:P3D
REFRESH-INTERVAL:P3D
CALSCALE:GREGORIAN
BEGIN:VEVENT
DTSTART:20240202T000000Z
DTEND:20240202T040000Z
X-MICROSOFT-CDO-ALLDAYEVENT:FALSE
SUMMARY:Grapevine Community Awards Banquet Presented by Bank of the West
DESCRIPTION:Grapevine Community Awards \n\nCelebrating those who made 2023 a great year!\n\n\n\nPresented by:\n\n \nAdvanced registration is required.\n\n\n\nPurchase Tickets by January 25th\n\n\n\nInterested in booking a room at the Gaylord Texan Resort & Convention Center?  Call:  (817)778-1000\n\n\n\nAttire: After 5\n\n\n\nEach year the Grapevine Chamber of Commerce takes time to honor deserving individuals from the community and from the Chamber's membership at its Annual Community Awards Banquet. The Awards Banquet is presented by Bank of the West.\n\n\n\nThe awards include:\n\n\n\nDon Ramey Community Spirit\, sponsored by Esparza's Restaurante Mexicano\n\nThe Don Ramey Community Spirit Award is given to an individual that\, over a period of time\, has contributed outstanding leadership and devotion to the Grapevine community.\n\nNominees: Kim Deras\, RaDonna Hessel\, Kylan Hoss\, P. "Dr. J" Theodorou\, DMD\, Debi Meek\, Stacy Pacholick\, Haydee Young\n\nTed Willhoite Legacy Award\, sponsored by TLC Realty\, Inc.\n\nThe Ted Willhoite Legacy Award recognizes an individual  that has a lasting personal contribution and an an enduring legacy making the community of Grapevine a better place to live.  This award recognizes distinguished individuals who are champions of responsible change\, who posses a pioneering spirit\, or demonstrates inventiveness to inspire and educate others.  \n\nNominees: C.W. Higgins\, Leonard "Junior" Elbert Hall\, Duff O'Dell\, The Wright Family\n\nD. E. Box Citizen of the Year\, sponsored by Joe & Balla Wright/ Wright Commercial Construction\n\nThe D.E. Box Citizen of the Year is an individual who has voluntarily and sincerely given of their time and leadership through an overall community development program\, working together to improve the economic\, civic\, and cultural well-being of the Grapevine area.  \n\nNominees: Shirley Roberts\, Paul Slechta\, Haydee Young\n\nMember of the Year\, sponsored by The Wykes Group\n\nThe Grapevine Chamber of Commerce Member of the Year is a business that has exhibited outstanding contributions to the Grapevine Chamber\, City of Grapevine and civic organizations during the past year.  \n\nNominees: Grapevine Escape\, Hop & Sting Brewing Co.\, Insurance Solutions USA\, Paycom\, Texas General Store\, Texas Gun Experience\n\nBusiness Hall of Fame\, sponsored by Stacy Furniture & Design\n\nMembers of the Grapevine Chamber of Commerce Business Hall of Fame are long time area businesses that have made outstanding contributions\, not only to the Grapevine Chamber\, but to the community as well.  \n\nNominees: Dallas Fort Worth International Airport\, Frost Bank\, GRACEful Buys & Donation Station\, Weinberger's Deli\n\nWomen's Division Woman of the Year\, sponsored by Blagg Tire & Service\n\nThis prestigious honor recognizes a woman who has distinguished herself through outstanding involvement benefiting the community of Grapevine. The nomination may recognize service from any past years.  \n\nNominees: Cass Clements\, Kim Deras\, Victoria Wernimont\, Janice Kane\, Brandi Hodge Villegas\, Haydee Young\n\nAmbassador of the Year\, sponsored by Grubbs Infiniti Grapevine\n\nThis honor is awarded to the Grapevine Chamber Ambassador who was most active by attending Ribbon Cuttings and groundbreakings\, introducing new members at luncheons and recruiting new Ambassadors and Chamber members.\n\nNominees: Cass Clements\, Kristin Harmel\, Kristen Jarvis\n\nRising Star Award\, sponsored by Magnolia Realty: \n\nThis award is to recognize an emerging leader/individual or business who has been an active member of the\n\nGrapevine Chamber of Commerce for a minimum of two years. It is to be presented to recognize their actions and activities that consistently exemplify enthusiasm\, commitment\, professionalism and leadership. Their contribution to the future of the Chamber and community is evident even in the short time they've been a part of this organization and they encourage others to become involved through their example.\n\nNominees:  Jason Allen\, Cass Clements\, Kristina Davis\, Pedro Gonzalez\, Robin Grist\, Julia Pesqueda\, Jon Powell\, Jennifer Stubbeman\, Ryan Tiglas\, Renee Townsend\n\nOrganization of Excellence\, sponsored by Silver Oak Commercial Realty\, LLC\n\nThis award was created to recognize organizations within the Chamber or Grapevine area who help those in need or provide outstanding support to the community.  It can include charity groups or recognized business groups.  The nominees are organizations that over a period of time have contributed outstanding leadership and devotion to the community.\n\nNominees:  6 Stones\, AMBUCS of Grapevine\, GRACE\, Grapevine Police Department Community Outreach Center\, Grapevine Rotary Club.\n\n\n\nAll award winners are selected via secret ballot by the Grapevine Chamber Board of Directors\, as well as past award winners.
X-ALT-DESC;FMTTYPE=text/html:<div><span style="font-size:18px\;"><strong>Grapevine Community Awards&nbsp\;</strong></span><br />\n<em>Celebrating those who made 2023 a great year!</em><br />\n<br />\n<span style="font-size:14px\;"><span style="font-family:times new roman\;"><em><span style="color:#000000\;"><strong>Presented by:</strong></span></em></span></span><br />\n&nbsp\;</div>\n<span style="font-family:times new roman\;"><span style="font-size:14px\;"><em><span style="color:#000000\;"><strong>Advanced registration is required.</strong></span></em></span><br />\n<br />\n<span style="font-size:14px\;"><font color="#ff0000"><b>Purchase Tickets by January 25th</b></font><br />\n<br />\nInterested in booking a room at the Gaylord Texan Resort &amp\; Convention Center?&nbsp\; Call:&nbsp\; (817)778-1000</span></span><br />\n<br />\n<span style="font-family:times new roman\;"><span style="font-size:14px\;"><strong>Attire:</strong> After 5<br />\n<br />\nEach year the Grapevine Chamber of Commerce takes time to honor deserving individuals&nbsp\;from the community and from the Chamber&#39\;s membership at its Annual Community Awards Banquet. The Awards Banquet is presented by Bank of the West.<br />\n<br />\nThe awards include:<br />\n<br />\n<strong>Don Ramey Community Spirit\, <em>sponsored by Esparza&#39\;s Restaurante Mexicano</em></strong><br />\nThe Don Ramey Community Spirit Award is given to an individual that\, over a period of time\, has contributed outstanding leadership and devotion to the Grapevine community.<br />\n<span style="font-size:16px\;"><strong>Nominees:</strong>&nbsp\;Kim Deras\, RaDonna Hessel\, Kylan Hoss\, P. &quot\;Dr. J&quot\; Theodorou\, DMD\, Debi Meek\, Stacy Pacholick\, Haydee Young</span></span></span>\n\n<hr /><span style="font-family:times new roman\;"><span style="font-size:14px\;"><strong>Ted Willhoite Legacy Award\, <em>sponsored by TLC Realty\, Inc.</em></strong><br />\nThe Ted Willhoite Legacy Award recognizes an individual &nbsp\;that has a lasting personal contribution and an an enduring legacy making the community of Grapevine a better place to live. &nbsp\;This award recognizes distinguished individuals who are champions of responsible change\, who posses a pioneering spirit\, or demonstrates inventiveness to inspire and educate others. &nbsp\;<br />\n<span style="font-size:16px\;"><strong>Nominees:</strong>&nbsp\;C.W. Higgins\, Leonard &quot\;Junior&quot\; Elbert Hall\, Duff O&#39\;Dell\, The Wright Family</span></span></span>\n\n<hr /><span style="font-family:times new roman\;"><span style="font-size:14px\;"><strong>D. E. Box Citizen of the Year\, <em>sponsored by Joe &amp\; Balla Wright/ Wright Commercial Construction</em></strong><br />\nThe D.E. Box Citizen of the Year is an individual who has voluntarily and sincerely given of their time and leadership through an overall community development program\, working together to improve the economic\, civic\, and cultural well-being of the Grapevine area. &nbsp\;<br />\n<span style="font-size:16px\;"><strong>Nominees:</strong>&nbsp\;</span></span></span><span style="font-family: &quot\;times new roman&quot\;\; font-size: 16px\;">Shirley Roberts\, Paul Slechta\, Haydee Young</span>\n\n<hr /><span style="font-family:times new roman\;"><span style="font-size:14px\;"><strong>Member of the Year\, <em>sponsored by The Wykes Group</em></strong><br />\nThe Grapevine Chamber of Commerce Member of the Year is a business that has exhibited outstanding contributions to the Grapevine Chamber\, City of Grapevine and civic organizations during the past year. &nbsp\;<br />\n<span style="font-size:16px\;"><strong>Nominees:&nbsp\;</strong>Grapevine Escape\, Hop &amp\; Sting Brewing Co.\, Insurance Solutions USA\, Paycom\, Texas General Store\, Texas Gun Experience</span></span></span>\n\n<hr /><span style="font-family:times new roman\;"><span style="font-size:14px\;"><strong>Business Hall of Fame\, <em>sponsored by Stacy Furniture &amp\; Design</em></strong><br />\nMembers of the Grapevine Chamber of Commerce Business Hall of Fame are long time area businesses that have made outstanding contributions\, not only to the Grapevine Chamber\, but to the community as well. &nbsp\;<br />\n<span style="font-size:16px\;"><strong>Nominees:</strong>&nbsp\;Dallas Fort Worth International Airport\, Frost Bank\, GRACEful Buys &amp\; Donation Station\, Weinberger&#39\;s Deli</span></span></span>\n\n<hr /><span style="font-family:times new roman\;"><span style="font-size:14px\;"><strong>Women&#39\;s Division Woman of the Year\, <em>sponsored by Blagg Tire &amp\; Service</em></strong><br />\nThis prestigious honor recognizes a woman who has distinguished herself through outstanding involvement benefiting the community of Grapevine. The nomination may recognize service from any past years. &nbsp\;<br />\n<span style="font-size:16px\;"><strong>Nominees:&nbsp\;</strong>Cass Clements\, Kim Deras\, Victoria Wernimont\, Janice Kane\, Brandi Hodge Villegas\, Haydee Young</span></span></span>\n\n<hr /><span style="font-family:times new roman\;"><span style="font-size:14px\;"><strong>Ambassador of the Year\, <em>sponsored by Grubbs Infiniti Grapevine</em></strong><br />\nThis honor is awarded to the Grapevine Chamber Ambassador who was most active by attending Ribbon Cuttings and groundbreakings\, introducing new members at luncheons and recruiting new Ambassadors and Chamber members.<br />\n<span style="font-size:16px\;"><strong>Nominees:</strong>&nbsp\;Cass Clements\, Kristin Harmel\, Kristen Jarvis</span></span></span>\n\n<hr /><span style="font-family:times new roman\;"><span style="font-size:14px\;"><strong>Rising Star Award\, <em>sponsored by Magnolia Realty:&nbsp\;</em></strong><br />\nThis award is to recognize an emerging leader/individual or business who has been an active member of the<br />\nGrapevine Chamber of Commerce for a minimum of two years. It is to be presented to recognize their actions and activities that consistently exemplify enthusiasm\, commitment\, professionalism and leadership. Their contribution to the future of the Chamber and community is evident even in the short time they&#39\;ve been a part of this organization and they encourage others to become involved through their example.</span><br />\n<span style="font-size:14px\;"><span style="font-size:16px\;"><strong>Nominees:&nbsp\;&nbsp\;</strong>Jason Allen\, Cass Clements\, Kristina Davis\, Pedro Gonzalez\, Robin Grist\, Julia Pesqueda\, Jon Powell\, Jennifer Stubbeman\, Ryan Tiglas\, Renee Townsend</span></span></span>\n\n<hr /><span style="font-size:14px\;"><span style="font-family:times new roman\;"><strong>Organization of Excellence\,<em> sponsored by Silver Oak Commercial Realty\, LLC</em></strong><br />\nThis award was created to recognize organizations within the Chamber or Grapevine area who help those in need or provide outstanding support to the community.&nbsp\; It can include charity groups or recognized business groups.&nbsp\; The nominees are organizations that over a period of time have contributed outstanding leadership and devotion to the community.</span></span><br />\n<strong style="color: rgb(51\, 51\, 51)\; font-family: &quot\;times new roman&quot\;\; font-size: 16px\; background-color: rgb(255\, 255\, 255)\;">Nominees:&nbsp\;&nbsp\;</strong><span style="color: rgb(51\, 51\, 51)\; font-family: &quot\;times new roman&quot\;\; font-size: 16px\; background-color: rgb(255\, 255\, 255)\;">6 Stones\, AMBUCS of Grapevine\, GRACE\, Grapevine Police Department Community Outreach Center\, Grapevine Rotary Club.</span><br />\n<br />\n<span style="font-family:times new roman\;"><span style="font-size:14px\;">All award winners are selected via secret ballot by the Grapevine Chamber Board of Directors\, as well as past award winners.</span></span>
LOCATION:Gaylord Texan Resort & Convention Center 1501 Gaylord Trail Grapevine\, TX 76051
UID:e.770.197828
SEQUENCE:3
DTSTAMP:20260424T130444Z
URL:https://business.grapevinechamber.org/events/details/grapevine-community-awards-banquet-presented-by-bank-of-the-west-197828
END:VEVENT

END:VCALENDAR
