BEGIN:VCALENDAR
VERSION:2.0
PRODID:-//ChamberMaster//Event Calendar 2.0//EN
METHOD:PUBLISH
X-PUBLISHED-TTL:P3D
REFRESH-INTERVAL:P3D
CALSCALE:GREGORIAN
BEGIN:VEVENT
DTSTART:20230905T130000Z
DTEND:20230905T150000Z
X-MICROSOFT-CDO-ALLDAYEVENT:FALSE
SUMMARY:Grapevine Chamber Lake Shore Clean Up
DESCRIPTION:Your Grapevine Chamber is teaming up with Grapevine Parks & Rec to do our part in making sure Litter Ends with Us.
X-ALT-DESC;FMTTYPE=text/html:Your Grapevine Chamber is teaming up with Grapevine Parks &amp\; Rec to do our part in making sure Litter Ends with Us.&nbsp\;&nbsp\;
LOCATION:Trawick Pavilion 2700 Darren G. Medlin Trail Grapevine\, TX 76051
UID:e.770.197367
SEQUENCE:3
DTSTAMP:20260424T091702Z
URL:https://business.grapevinechamber.org/events/details/grapevine-chamber-lake-shore-clean-up-197367
END:VEVENT

END:VCALENDAR
