BEGIN:VCALENDAR
VERSION:2.0
PRODID:-//ChamberMaster//Event Calendar 2.0//EN
METHOD:PUBLISH
X-PUBLISHED-TTL:P3D
REFRESH-INTERVAL:P3D
CALSCALE:GREGORIAN
BEGIN:VEVENT
DTSTART:20130125T003000Z
DTEND:20130125T033000Z
X-MICROSOFT-CDO-ALLDAYEVENT:FALSE
SUMMARY:Grapevine Chamber Community Awards Banquet
DESCRIPTION:Each year the Grapevine Chamber of Commerce takes time to honor individuals in the community\, as well as its Chamber members. Sponsored by Baylor Regional Medical Center at Grapevine\, the Grapevine Chamber of Commerce Annual Awards Banquet is Thursday\, Jan. 24\, at the Hilton DFW Lakes Executive Conference Center.\n\n	\n\n	If you would still like to attend this event\, please call the Chamber ASAP at (817) 481-1522.\n\n	\n\n	Tickets are $50 each or $500 for a sponsor table of eight.\n\n	\n\n	Attire is business casual. The check-in table will open at 6:30 p.m.\, and dinner will begin at 7 p.m.\n\n	\n\n	We hope you will join us for an evening honoring the Grapevine community and its businesses!\n\n	\n\n	See the nominees here.
X-ALT-DESC;FMTTYPE=text/html:<p>\n	<span style="font-size:14px\;"><span style="font-family: arial\;">Each year the Grapevine Chamber of Commerce takes time to honor individuals in the community\, as well as its Chamber members. Sponsored by Baylor Regional Medical Center at Grapevine\, the Grapevine Chamber of Commerce Annual Awards Banquet is Thursday\, Jan. 24\, at the Hilton DFW Lakes Executive Conference Center.<br />\n	<br />\n	<em><strong>If you would still like to attend this event\, please call the Chamber ASAP at (817) 481-1522.</strong></em><br />\n	<br />\n	Tickets are $50 each or $500 for a sponsor table of eight.<br />\n	<br />\n	Attire is business casual. The check-in table will open at 6:30 p.m.\, and dinner will begin at 7 p.m.<br />\n	<br />\n	We hope you will join us for an evening honoring the Grapevine community and its businesses!<br />\n	<br />\n	<em><strong><a href="http://www.grapevinechamber.org/blog/grapevine-community-awards-banquet.aspx">See the nominees here.</a></strong></em></span></span></p>\n
LOCATION:Hilton DFW Lakes Executive Conference Center 1800 Hwy. 26 E. Grapevine\, TX 76051
UID:e.770.163041
SEQUENCE:3
DTSTAMP:20260421T210826Z
URL:https://business.grapevinechamber.org/events/details/grapevine-chamber-community-awards-banquet-01-24-2013-163041
END:VEVENT

END:VCALENDAR
