BEGIN:VCALENDAR
VERSION:2.0
PRODID:-//ChamberMaster//Event Calendar 2.0//EN
METHOD:PUBLISH
X-PUBLISHED-TTL:P3D
REFRESH-INTERVAL:P3D
CALSCALE:GREGORIAN
BEGIN:VEVENT
DTSTART;VALUE=DATE:20230914
DTEND;VALUE=DATE:20230918
TRANSP:TRANSPARENT
X-MICROSOFT-CDO-ALLDAYEVENT:TRUE
SUMMARY:Grapefest
DESCRIPTION:For complete details\, visit https://www.grapevinetexasusa.com/grapefest/
X-ALT-DESC;FMTTYPE=text/html:For complete details\, visit&nbsp\;<a href="https://www.grapevinetexasusa.com/grapefest/">https://www.grapevinetexasusa.com/grapefest/</a>
LOCATION:
UID:e.770.195799
SEQUENCE:3
DTSTAMP:20260424T202057Z
URL:https://business.grapevinechamber.org/events/details/grapefest-195799
END:VEVENT

END:VCALENDAR
