BEGIN:VCALENDAR
VERSION:2.0
PRODID:-//ChamberMaster//Event Calendar 2.0//EN
METHOD:PUBLISH
X-PUBLISHED-TTL:P3D
REFRESH-INTERVAL:P3D
CALSCALE:GREGORIAN
BEGIN:VEVENT
DTSTART:20120818T150000Z
DTEND:20120819T010000Z
X-MICROSOFT-CDO-ALLDAYEVENT:FALSE
SUMMARY:Grand Opening-One Posh Place
DESCRIPTION:Grand Opening of New Store in the heart of Downtown Grapevine!\n\nFun filled day of food and festivities. Pop a balloon and see how much your discount will be!
X-ALT-DESC;FMTTYPE=text/html:<span style="font-size:16px\;">Grand Opening of New Store in the heart of Downtown Grapevine!<br />\nFun filled day of food and festivities. Pop a balloon and see how much your discount will be!</span>
LOCATION:317 S. Main Street
UID:e.770.162963
SEQUENCE:3
DTSTAMP:20260422T080039Z
URL:https://business.grapevinechamber.org/events/details/grand-opening-one-posh-place-08-18-2012-162963
END:VEVENT

END:VCALENDAR
