BEGIN:VCALENDAR
VERSION:2.0
PRODID:-//ChamberMaster//Event Calendar 2.0//EN
METHOD:PUBLISH
X-PUBLISHED-TTL:P3D
REFRESH-INTERVAL:P3D
CALSCALE:GREGORIAN
BEGIN:VEVENT
DTSTART:20230512T220000Z
DTEND:20230513T010000Z
X-MICROSOFT-CDO-ALLDAYEVENT:FALSE
SUMMARY:GRAND OPENING BLOCK PARTY - Liberated Chiropractic
DESCRIPTION:JOIN US IN CELEBRATING THE OPENING OF LIBERATED CHIROPRACTIC! \n\n\n\nFun for the whole family! Including bounce house\, popsicles\, door prizes\, beer and more!\n\n\n\nOpen to all who'd like to attend. Business networking and family connecting are encouraged!\n\n\n\n*if you'd like to donate or get involved\, please email Dr. Tyler at liberatedchiro@gmail.com*
X-ALT-DESC;FMTTYPE=text/html:JOIN US IN CELEBRATING THE OPENING OF LIBERATED CHIROPRACTIC!&nbsp\;<br />\n<br />\nFun for the whole family! Including bounce house\, popsicles\, door prizes\, beer and more!<br />\n<br />\nOpen to all who&rsquo\;d like to attend. Business networking and family connecting are encouraged!<br />\n<br />\n*if you&rsquo\;d like to donate or get involved\, please email Dr. Tyler at liberatedchiro@gmail.com*
LOCATION:Liberated Chiropractic 4100 Heritage Ave. Suite 101 Grapevine TX 76051
UID:e.770.196888
SEQUENCE:3
DTSTAMP:20260425T040101Z
URL:https://business.grapevinechamber.org/events/details/grand-opening-block-party-liberated-chiropractic-196888
END:VEVENT

END:VCALENDAR
