BEGIN:VCALENDAR
VERSION:2.0
PRODID:-//ChamberMaster//Event Calendar 2.0//EN
METHOD:PUBLISH
X-PUBLISHED-TTL:P3D
REFRESH-INTERVAL:P3D
CALSCALE:GREGORIAN
BEGIN:VEVENT
DTSTART:20130306T000000Z
DTEND:20130306T020000Z
X-MICROSOFT-CDO-ALLDAYEVENT:FALSE
SUMMARY:Grand Opening at Ferguson Enterprises
DESCRIPTION:You are cordially invited to the grand opening of our newly remodeled showroom.  \n\n	Enjoy hors d'oeuvres and refreshments with live music.  \n\n	Get to know your Showroom Consultants and learn about your favorite plumbing\, lighting\, and appliance selections from the manufacturers themselves.  \n\n	Come help us celebrate!
X-ALT-DESC;FMTTYPE=text/html:<p>\n	<big><span style="font-size: 22px"><span style="font-family: consolas">You are cordially invited to the grand opening of our newly remodeled showroom.&nbsp\; </span><br />\n	<span style="font-family: consolas">Enjoy hors d&#39\;oeuvres and refreshments with live music.&nbsp\; </span><br />\n	<span style="font-family: consolas">Get to know your Showroom Consultants and learn about your favorite plumbing\, lighting\, and appliance selections from the manufacturers themselves.&nbsp\; </span><br />\n	<span style="font-family: consolas">Come help us celebrate!</span></span></big><br />\n	&nbsp\;</p>\n
LOCATION:Ferguson Enterprises 512 E. Dallas Rd.\, #100 Grapevine\, TX 76051
UID:e.770.163366
SEQUENCE:3
DTSTAMP:20260421T174739Z
URL:https://business.grapevinechamber.org/events/details/grand-opening-at-ferguson-enterprises-03-05-2013-163366
END:VEVENT

END:VCALENDAR
