BEGIN:VCALENDAR
VERSION:2.0
PRODID:-//ChamberMaster//Event Calendar 2.0//EN
METHOD:PUBLISH
X-PUBLISHED-TTL:P3D
REFRESH-INTERVAL:P3D
CALSCALE:GREGORIAN
BEGIN:VEVENT
DTSTART:20121024T213000Z
DTEND:20121024T213000Z
X-MICROSOFT-CDO-ALLDAYEVENT:FALSE
SUMMARY:Grand Opening And Ribbon Cutting
DESCRIPTION:Ederra Medspa and Wellness will be having a Grand Opening and Ribbon Cutting on Wednesday October 24\, 2012.\n\nWe are having a special of 10 % off any services for New Clients! $10.00 a unit for botox\, this botox offer is only good for this day!  We will also offer refreshments.
X-ALT-DESC;FMTTYPE=text/html:Ederra Medspa and Wellness will be having a Grand Opening and Ribbon Cutting on Wednesday October 24\, 2012.<br />\nWe are having a special of 10 % off any services for New Clients! $10.00 a unit for botox\, this botox offer is only good for this day!&nbsp\; We will also offer refreshments.<br />\n<br />\n
LOCATION:1204 S White's Chapel Rd. Southlake \, Texas 76092
UID:e.770.163040
SEQUENCE:3
DTSTAMP:20260422T110704Z
URL:https://business.grapevinechamber.org/events/details/grand-opening-and-ribbon-cutting-10-24-2012-163040
END:VEVENT

END:VCALENDAR
