BEGIN:VCALENDAR
VERSION:2.0
PRODID:-//ChamberMaster//Event Calendar 2.0//EN
METHOD:PUBLISH
X-PUBLISHED-TTL:P3D
REFRESH-INTERVAL:P3D
CALSCALE:GREGORIAN
BEGIN:VEVENT
DTSTART:20220831T223000Z
DTEND:20220901T003000Z
X-MICROSOFT-CDO-ALLDAYEVENT:FALSE
SUMMARY:GRACE Gala Gifting Party
DESCRIPTION:You are cordially invited to help us kickoff to Gala season at our GRACE Gala Gifting Party. The Gifting party helps to spread the word around the community about the GRACE Gala and the auction\, all of which are fun for everyone who participates.\n\nOn Wednesday\, August 31st\, from 5:30 pm to 7:30 pm\, Crush It Sports in Grapevine will host the GRACE Gala Gifting Party. Entry to this special event requires a donation of a gift item with a minimum retail value of $100\, which will be sold at the Gala's auction to raise money for GRACE programs.
X-ALT-DESC;FMTTYPE=text/html:<span style="font-size:12.0pt">You are cordially invited to help us kickoff to Gala season at our GRACE Gala Gifting Party. The Gifting party helps to spread the word around the community about the GRACE Gala and the auction\, all of which are fun for everyone who participates.</span><br />\n<span style="font-size:12.0pt">On Wednesday\, August 31st\, from 5:30 pm to 7:30 pm\, Crush It Sports in Grapevine will host the GRACE Gala Gifting Party. Entry to this special event requires a donation of a gift item with a minimum retail value of $100\, which will be sold at the Gala&#39\;s auction to raise money for GRACE programs.</span><br />\n<br />\n&nbsp\;
LOCATION:Crush it! Sports Lounge- 401 W State Hwy 114\, Grapevine Tx\,76051
UID:e.770.195464
SEQUENCE:3
DTSTAMP:20260425T194221Z
URL:https://business.grapevinechamber.org/events/details/grace-gala-gifting-party-195464
END:VEVENT

END:VCALENDAR
