BEGIN:VCALENDAR
VERSION:2.0
PRODID:-//ChamberMaster//Event Calendar 2.0//EN
METHOD:PUBLISH
X-PUBLISHED-TTL:P3D
REFRESH-INTERVAL:P3D
CALSCALE:GREGORIAN
BEGIN:VEVENT
DTSTART:20120802T133000Z
DTEND:20120802T203000Z
X-MICROSOFT-CDO-ALLDAYEVENT:FALSE
SUMMARY:Governor's North Texas Small Business Forum & Business Expo
DESCRIPTION:The Grapevine Chamber of Commerce is proud to be a supporting sponsor of the Governor's North Texas Small Business Forum & Business Expo\n\n\n\nLuncheon Keynote: \n\n\n\nTexas Rangers CEO/President\, Nolan Ryan\n\nwith Chuck Morgan\, Texas Rangers Executive Vice President Ballpark Entertainment & Productions\n\n\n\nMAJOR SESSION TOPICS WILL INCLUDE:\n\n\n	\n		Building Bridges Between Government and Business\n	\n		Engaging the Hispanic Market\n	\n		Building Your Brand - Lessons from Lady Gaga\n	\n		Stamp Out "Normal" to Grow Business Retail\n	\n		Tips from MWBE\, HUB\, the Disabled\, and Veteran Owned Businesses\n	\n		Adjusting to Economic & Competitive Threats\n	\n		Key Financial Relationships for \n	\n		Success\n\nQuestions?\n\n\n\nContact the Irving-Las Colinas Chamber of Commerce at (214) 217-8484
X-ALT-DESC;FMTTYPE=text/html:<br />\n<span style="font-size:16px\;"><span style="font-family: arial\; ">The Grapevine Chamber of Commerce is proud to be a supporting sponsor of the Governor&#39\;s North Texas Small Business Forum &amp\; Business Expo<br />\n<br />\n<strong>Luncheon Keynote: </strong><br />\n<br />\nTexas Rangers CEO/President\, Nolan Ryan<br />\nwith Chuck Morgan\, Texas Rangers Executive Vice President Ballpark Entertainment &amp\; Productions<br />\n<br />\n<strong>MAJOR SESSION TOPICS WILL INCLUDE:</strong></span></span><br />\n<ul>\n	<li>\n		<span style="font-size:16px\;"><span style="font-family: arial\; ">Building Bridges Between Government and Business</span></span></li>\n	<li>\n		<span style="font-size:16px\;"><span style="font-family: arial\; ">Engaging the Hispanic Market</span></span></li>\n	<li>\n		<span style="font-size:16px\;"><span style="font-family: arial\; ">Building Your Brand - Lessons from Lady Gaga</span></span></li>\n	<li>\n		<span style="font-size:16px\;"><span style="font-family: arial\; ">Stamp Out &quot\;Normal&quot\; to Grow Business Retail</span></span></li>\n	<li>\n		<span style="font-size:16px\;"><span style="font-family: arial\; ">Tips from MWBE\, HUB\, the Disabled\, and Veteran Owned Businesses</span></span></li>\n	<li>\n		<span style="font-size:16px\;"><span style="font-family: arial\; ">Adjusting to Economic &amp\; Competitive Threats</span></span></li>\n	<li>\n		<span style="font-size:16px\;"><span style="font-family: arial\; ">Key Financial Relationships for </span></span></li>\n	<li>\n		<span style="font-size:16px\;"><span style="font-family: arial\; ">Success</span></span></li>\n</ul>\n<span style="font-size:16px\;"><strong>Questions?</strong><br />\n<br />\nContact the&nbsp\;Irving-Las Colinas Chamber of Commerce at (214) 217-8484</span>
LOCATION:Irving Convention Center 500 West Las Colinas Blvd. Irving\, TX 75039
UID:e.770.162912
SEQUENCE:3
DTSTAMP:20260422T080428Z
URL:https://business.grapevinechamber.org/events/details/governor-s-north-texas-small-business-forum-business-expo-08-02-2012-162912
END:VEVENT

END:VCALENDAR
