BEGIN:VCALENDAR
VERSION:2.0
PRODID:-//ChamberMaster//Event Calendar 2.0//EN
METHOD:PUBLISH
X-PUBLISHED-TTL:P3D
REFRESH-INTERVAL:P3D
CALSCALE:GREGORIAN
BEGIN:VEVENT
DTSTART:20250125T180000Z
DTEND:20250125T200000Z
X-MICROSOFT-CDO-ALLDAYEVENT:FALSE
SUMMARY:Good Shepherd Rescue of Texas Adoption Event
DESCRIPTION:Looking for a furry friend?\n\n\n\nJoin us for our Good Shepherd Adoption Event and meet lovable dogs who are ready for their forever homes!  Monarch Office Furniture & Monarch Interior Solutions is proud to sponsor this event and help these pups find a family to call their own. Don't miss out adopt\, don't shop!\n\nCome for a chance to meet your new best friend\, enjoy some great company\, a light lunch\, and have fun!\n\n#AdoptDontShop #FureverHome #DogAdoption #AdoptLove #DogsofGrapevine\n\n\n\nIf you cannot attend the event\, please use the Amazon Wish List below to donate items needed for the rescue sanctuary:\n\nAmazon.com
X-ALT-DESC;FMTTYPE=text/html:<p><strong>Looking for a furry friend?</strong><br />\n<br />\nJoin us for our <strong>Good Shepherd Adoption Event</strong>&nbsp\;and meet lovable dogs who are ready for their forever homes!&nbsp\;&nbsp\;<strong>Monarch Office Furniture &amp\; Monarch Interior Solutions&nbsp\;</strong>is proud to sponsor this event and help these pups find a family to call their own. Don&rsquo\;t miss out&mdash\;adopt\, don&rsquo\;t shop!</p>\n\n<p>Come for a chance to meet your new best friend\, enjoy some great company\, a light lunch\, and have fun!</p>\n\n<p>#AdoptDontShop #FureverHome #DogAdoption #AdoptLove #DogsofGrapevine<br />\n<br />\nIf you cannot&nbsp\;attend the event\, please use the Amazon Wish List below to donate items needed for the rescue sanctuary:<br />\n<a href="https://www.amazon.com/hz/wishlist/ls/3676WQSHJY3MF?ref_=wl_share">Amazon.com</a></p>\n
LOCATION:Monarch Office Furniture 680 S. Royal Lane\, Suite #200 Coppell\, Texas 75019
UID:e.770.200575
SEQUENCE:3
DTSTAMP:20260423T134532Z
URL:https://business.grapevinechamber.org/events/details/good-shepherd-rescue-of-texas-adoption-event-200575
END:VEVENT

END:VCALENDAR
