BEGIN:VCALENDAR
VERSION:2.0
PRODID:-//ChamberMaster//Event Calendar 2.0//EN
METHOD:PUBLISH
X-PUBLISHED-TTL:P3D
REFRESH-INTERVAL:P3D
CALSCALE:GREGORIAN
BEGIN:VEVENT
DTSTART:20130326T220000Z
DTEND:20130327T000000Z
X-MICROSOFT-CDO-ALLDAYEVENT:FALSE
SUMMARY:Golf'n Gals and Friends Night
DESCRIPTION:Event Includes:\n\n	\n\n	SAM PUTT LAB DEMO   5:30PM\n\n	With our PGA Professional MIKE WHITE\n\n	\n\n	PUTTING CONTEST (10 FT.) $10 Golf Galaxy Gift Card - 3 out of 3 putts\n\n	\n\n	FASHION SHOW   6:30PM\n\n	\n\n	View the HOT DEAL to see full information and coupons
X-ALT-DESC;FMTTYPE=text/html:<p>\n	<br />\n	<span style="font-size:16px\;"><span style="font-family: arial\;"><u><strong>Event Includes:</strong></u><br />\n	<br />\n	SAM PUTT LAB DEMO &bull\; 5:30PM<br />\n	With our PGA Professional MIKE WHITE<br />\n	<br />\n	PUTTING CONTEST (10 FT.) $10 Golf Galaxy Gift Card - 3 out of 3 putts<br />\n	<br />\n	FASHION SHOW &bull\; 6:30PM<br />\n	<br />\n	<strong><a href="http://business.grapevinechamber.org/HotDeals/Info/golf-galaxy-golf-n-gals-and-friends-night-02-25-2013.htm" target="_blank">View the HOT DEAL</a> to see full information and coupons</strong></span></span></p>\n
LOCATION:Golf Galaxy 2100 W. Northwest Hwy. Grapevine\, TX 76051
UID:e.770.163394
SEQUENCE:3
DTSTAMP:20260421T180049Z
URL:https://business.grapevinechamber.org/events/details/golf-n-gals-and-friends-night-03-26-2013-163394
END:VEVENT

END:VCALENDAR
