BEGIN:VCALENDAR
VERSION:2.0
PRODID:-//ChamberMaster//Event Calendar 2.0//EN
METHOD:PUBLISH
X-PUBLISHED-TTL:P3D
REFRESH-INTERVAL:P3D
CALSCALE:GREGORIAN
BEGIN:VEVENT
DTSTART:20121214T010000Z
DTEND:20121214T023000Z
X-MICROSOFT-CDO-ALLDAYEVENT:FALSE
SUMMARY:Golf Galaxy Holiday Event
DESCRIPTION:We just received great news! At our Holiday Event at Grapevine\, you will have the chance to meet Cleveland Tour Pro John Rollins at our Grapevine Store!
X-ALT-DESC;FMTTYPE=text/html:<span style="font-family:berlin sans fb\,sans-serif\;"><span style="font-size:14.0pt\;">We just received great news! At our Holiday Event at Grapevine\, you will have the chance to meet Cleveland Tour Pro </span></span><em><u><span style="font-family:berlin sans fb\,sans-serif\;"><span style="font-size:16.0pt\;">John Rollins </span></span></u></em><span style="font-family:berlin sans fb\,sans-serif\;"><span style="font-size:14.0pt\;">at our Grapevine Store!</span></span><br />\n&nbsp\;<br />\n
LOCATION:2100 W. Northwest Hwy. Grapevine\, TX 76051
UID:e.770.163248
SEQUENCE:3
DTSTAMP:20260423T163755Z
URL:https://business.grapevinechamber.org/events/details/golf-galaxy-holiday-event-12-13-2012-163248
END:VEVENT

END:VCALENDAR
