BEGIN:VCALENDAR
VERSION:2.0
PRODID:-//ChamberMaster//Event Calendar 2.0//EN
METHOD:PUBLISH
X-PUBLISHED-TTL:P3D
REFRESH-INTERVAL:P3D
CALSCALE:GREGORIAN
BEGIN:VEVENT
DTSTART:20120921T170000Z
DTEND:20120921T180000Z
X-MICROSOFT-CDO-ALLDAYEVENT:FALSE
SUMMARY:Golf Committee Meeting
DESCRIPTION:A committee of Grapevine Chamber members who are coordinating the Golf Classic
X-ALT-DESC;FMTTYPE=text/html:<div>\n	A committee of Grapevine Chamber members who are coordinating the Golf Classic</div>\n
LOCATION:Grapevine Chamber of Commerce 200 Vine Street Grapevine\, TX 76051 (817) 481-1522
UID:e.770.162851
SEQUENCE:3
DTSTAMP:20260422T093908Z
URL:https://business.grapevinechamber.org/events/details/golf-committee-meeting-09-21-2012-162851
END:VEVENT

END:VCALENDAR
