BEGIN:VCALENDAR
VERSION:2.0
PRODID:-//ChamberMaster//Event Calendar 2.0//EN
METHOD:PUBLISH
X-PUBLISHED-TTL:P3D
REFRESH-INTERVAL:P3D
CALSCALE:GREGORIAN
BEGIN:VEVENT
DTSTART:20131122T003000Z
DTEND:20131122T023000Z
X-MICROSOFT-CDO-ALLDAYEVENT:FALSE
SUMMARY:Glenmorangie Whisky Tasting at Boi Na Braza Brazilian Steak House
DESCRIPTION:Glenmorangie\n\n	Single Malt Scotch Whisky\n\n	\n\n	Please Join Us\n\n	\n\n	Glenmorangie Whisky Tasting\n\n	At Boi Na Braza\n\n	\n\n	Join us for a casual evening tasting of outstanding single malt Scotch Whisky by Glenmorangie.\n\n	\n\n	Whiskies:\n\n	\n\n	The Oringinal\,\n\n	Nectar D'Or\,\n\n	Quinta Ruban\,\n\n	The 18 Years Old\n\n	\n\n	Where:\n\n	\n\n	Boi Na Braza\n\n	4025 William D. Tate\n\n	Grapevine\, Texas\n\n	\n\n	Cost:\n\n	\n\n	$25.00 per person*\n\n	\n\n	\n\n	*Whisky tasting price available for this special event only and does not include other beverages\, dinner\, dessert\, tax or gratuity. Must be 21 years of age or older to consume alcohol.
X-ALT-DESC;FMTTYPE=text/html:<div style="text-align: center\;">\n	<span style="font-size:28px\;">&nbsp\;Glenmorangie</span><br />\n	Single Malt Scotch Whisky<br />\n	<br />\n	<span style="color:#ffa500\;"><span style="font-size:20px\;">Please Join Us</span></span><br />\n	<br />\n	Glenmorangie Whisky Tasting<br />\n	At Boi Na Braza<br />\n	<br />\n	Join us for a casual evening tasting of outstanding single malt Scotch Whisky by Glenmorangie.<br />\n	<br />\n	<span style="font-size:16px\;"><strong><span style="color:#ffa500\;">Whiskies:</span></strong></span><br />\n	<br />\n	The Oringinal\,<br />\n	Nectar D&#39\;Or\,<br />\n	Quinta Ruban\,<br />\n	The 18 Years Old<br />\n	<br />\n	<span style="font-size:16px\;"><strong><span style="color:#ffa500\;">Where:</span></strong></span><br />\n	<br />\n	Boi Na Braza<br />\n	4025 William D. Tate<br />\n	Grapevine\, Texas<br />\n	<br />\n	<span style="font-size:16px\;"><strong><span style="color:#ffa500\;">Cost:</span></strong></span><br />\n	<br />\n	$25.00 per person*<br />\n	<br />\n	<br />\n	*Whisky tasting price available for this special event only and does not include other beverages\, dinner\, dessert\, tax or gratuity. Must be 21 years of age or older to consume alcohol.</div>\n
LOCATION:4025 William D. Tate Grapevine\, Texas Off of Hall Johnson and Highway 121N.
UID:e.770.165447
SEQUENCE:3
DTSTAMP:20260421T013843Z
URL:https://business.grapevinechamber.org/events/details/glenmorangie-whisky-tasting-at-boi-na-braza-brazilian-steak-house-11-21-2013-165447
END:VEVENT

END:VCALENDAR
