BEGIN:VCALENDAR
VERSION:2.0
PRODID:-//ChamberMaster//Event Calendar 2.0//EN
METHOD:PUBLISH
X-PUBLISHED-TTL:P3D
REFRESH-INTERVAL:P3D
CALSCALE:GREGORIAN
BEGIN:VEVENT
DTSTART:20230829T230000Z
DTEND:20230830T010000Z
X-MICROSOFT-CDO-ALLDAYEVENT:FALSE
SUMMARY:Give Back Night at CNP benefiting PH4U
DESCRIPTION:Bring your friends and family to Chicken N Pickle on Tuesday\, Aug 29th for dinner! Not only will you get to enjoy a great meal\, but you will also be supporting a great local non-profit!  Join us for dinner and then grab a court to play! Be sure to stop by the PH4U Table at Court 5 to say hello and to learn more about our upcoming events and programs! We'd love to see you there!\n\n\n\n10% of your food purchases will be donated to Pregnancy Help 4 U.
X-ALT-DESC;FMTTYPE=text/html:Bring your friends and family to Chicken N Pickle on Tuesday\, Aug 29th for dinner! Not only will you get to enjoy a great meal\, but you will also be supporting a great local non-profit!&nbsp\; Join us for dinner and then grab a court to play! Be sure to stop by the PH4U Table at Court 5 to say hello and to learn more about our upcoming events and programs! We&#39\;d love to see you there!<br />\n<br />\n10% of your food purchases will be donated to Pregnancy Help 4 U.&nbsp\;
LOCATION:Chicken N Pickle 4600 Merlot Ave Grapevine\, TX 76051
UID:e.770.197501
SEQUENCE:3
DTSTAMP:20260424T221333Z
URL:https://business.grapevinechamber.org/events/details/give-back-night-at-cnp-benefiting-ph4u-197501
END:VEVENT

END:VCALENDAR
