BEGIN:VCALENDAR
VERSION:2.0
PRODID:-//ChamberMaster//Event Calendar 2.0//EN
METHOD:PUBLISH
X-PUBLISHED-TTL:P3D
REFRESH-INTERVAL:P3D
CALSCALE:GREGORIAN
BEGIN:VEVENT
DTSTART:20230802T163000Z
DTEND:20230802T180000Z
X-MICROSOFT-CDO-ALLDAYEVENT:FALSE
SUMMARY:GCISD Education Foundation New Educators Luncheon
DESCRIPTION:Register HERE\n\n\n\nLet's celebrate the arrival of the outstanding new educators joining the Grapevine-Colleyville ISD team at the New Educator Luncheon on Wednesday\, August 2\, 2023\, from 11:30 am to 1:00 pm. This year's luncheon is at the Grapevine Convention Center\, and the owner of Esparza's Restaurante\, Steve Brown\, will be our returning lunch sponsor.\n\n\n\nContinuing a 50+ year tradition\, local businesses and community members will join together at the luncheon to show these educators how important and valued they are in our community.\n\n\n\nPlease click the button above to become a luncheon sponsor\, reserve a ticket\, or adopt-a-teacher. Contact Jane Richards\, Executive Director of the Education Foundation\, at jane.richards@gcisd.net with any questions.\n\n\n\nThe Grapevine-Colleyville Education Foundation is a 501(c)(3) organization providing funds for educational programs and activities for students and staff. All funds raised by the Foundation stay within GCISD. The Foundation has distributed over $3.5 million in innovative teaching grants and designated awards in its 25-year history.\n\n\n\nWe thank you for your support and hope to see you there!\n\n\n\nSincerely\,\n\nJane Richards\n\nExecutive Director\n\nGrapevine-Colleyville Education Foundation
X-ALT-DESC;FMTTYPE=text/html:Register <a href="https://www.cognitoforms.com/GrapevineColleyvilleEducationFoundation/_2023WelcomeNewEducatorsLuncheonTicketReservationSponsorshipInformation">HERE</a><br />\n<br />\nLet&rsquo\;s celebrate the arrival of the outstanding new educators joining the Grapevine-Colleyville ISD team at the New Educator Luncheon on Wednesday\, August 2\, 2023\, from 11:30 am to 1:00 pm. This year&rsquo\;s luncheon is at the Grapevine Convention Center\, and the owner of Esparza&rsquo\;s Restaurante\, Steve Brown\, will be our returning lunch sponsor.<br />\n<br />\nContinuing a 50+ year tradition\, local businesses and community members will join together at the luncheon to show these educators how important and valued they are in our community.<br />\n<br />\nPlease click the button above to become a luncheon sponsor\, reserve a ticket\, or adopt-a-teacher. Contact Jane Richards\, Executive Director of the Education Foundation\, at jane.richards@gcisd.net with any questions.<br />\n<br />\nThe Grapevine-Colleyville Education Foundation is a 501(c)(3) organization providing funds for educational programs and activities for students and staff. All funds raised by the Foundation stay within GCISD. The Foundation has distributed over $3.5 million in innovative teaching grants and designated awards in its 25-year history.<br />\n<br />\nWe thank you for your support and hope to see you there!<br />\n<br />\nSincerely\,<br />\nJane Richards<br />\nExecutive Director<br />\nGrapevine-Colleyville Education Foundation
LOCATION:Grapevine Convention Center 1209 S. Main St. Grapevine
UID:e.770.197282
SEQUENCE:3
DTSTAMP:20260424T221404Z
URL:https://business.grapevinechamber.org/events/details/gcisd-education-foundation-new-educators-luncheon-197282
END:VEVENT

END:VCALENDAR
