BEGIN:VCALENDAR
VERSION:2.0
PRODID:-//ChamberMaster//Event Calendar 2.0//EN
METHOD:PUBLISH
X-PUBLISHED-TTL:P3D
REFRESH-INTERVAL:P3D
CALSCALE:GREGORIAN
BEGIN:VEVENT
DTSTART;VALUE=DATE:20130717
DTEND;VALUE=DATE:20130718
TRANSP:TRANSPARENT
X-MICROSOFT-CDO-ALLDAYEVENT:TRUE
SUMMARY:Fundraiser for Cruise to the Cure at Buffalo Wild Wings in Irving
DESCRIPTION:ALL day anyone that mentions Cruise to the Cure to their server at Buffalo Wild Winds Irving. Buffalo Wild Wings will donate 10% to cruise to the cure charity. No additional cost to the patron. Help us out and go to Buffalo WildWings Wednesday
X-ALT-DESC;FMTTYPE=text/html:<p>\n	<span style="font-size:14px\;"><span style="font-family: arial\;">ALL day anyone that mentions Cruise to the Cure to their server at Buffalo Wild Winds Irving. Buffalo Wild Wings will donate 10% to cruise to the cure charity. No additional cost to the patron. Help us out and go to Buffalo WildWings Wednesday</span></span></p>\n
LOCATION:Buffalo Wild Wings 1200 Market Place Irving\, TX 75063
UID:e.770.163618
SEQUENCE:3
DTSTAMP:20260420T102339Z
URL:https://business.grapevinechamber.org/events/details/fundraiser-for-cruise-to-the-cure-at-buffalo-wild-wings-in-irving-07-17-2013-163618
END:VEVENT

END:VCALENDAR
