BEGIN:VCALENDAR
VERSION:2.0
PRODID:-//ChamberMaster//Event Calendar 2.0//EN
METHOD:PUBLISH
X-PUBLISHED-TTL:P3D
REFRESH-INTERVAL:P3D
CALSCALE:GREGORIAN
BEGIN:VEVENT
DTSTART:20130317T190000Z
DTEND:20130317T220000Z
X-MICROSOFT-CDO-ALLDAYEVENT:FALSE
SUMMARY:Fresh Start Business Debut - Lorinda Mitchell
DESCRIPTION:Celebrating the changing of the season with a Grand Re-opening of my business!!  Come experience the Spring product line "Zen in Bloom" as well as the regular line products from skin care\, glamour\, bath and body.  Complimentary facials\, Easter and Mother's day gift ideas\, glamour consultations\, food and fun!  Come help me celebrate 5 years in my amazing business as well as Mary Kay's 50th anniversary year!
X-ALT-DESC;FMTTYPE=text/html:Celebrating the changing of the season with a Grand Re-opening of my business!! &nbsp\;Come experience the Spring product line &quot\;Zen in Bloom&quot\; as well as the regular line products from skin care\, glamour\, bath and body. &nbsp\;Complimentary facials\, Easter and Mother&#39\;s day gift ideas\, glamour consultations\, food and fun! &nbsp\;Come help me celebrate 5 years in my amazing business as well as Mary Kay&#39\;s 50th anniversary year!
LOCATION:Studio 114 2003 E. Hwy 114\, Suite 425\, Trophy Club\, TX 76262 (At Hwy 114 and Trophy Club drive in the shopping strip with Cristine's)
UID:e.770.163433
SEQUENCE:3
DTSTAMP:20260421T180023Z
URL:https://business.grapevinechamber.org/events/details/fresh-start-business-debut-lorinda-mitchell-03-17-2013-163433
END:VEVENT

END:VCALENDAR
